BEGIN:VCALENDAR
VERSION:2.0
PRODID:-//Sociale Kalender - ECPv6.2.9//NONSGML v1.0//EN
CALSCALE:GREGORIAN
METHOD:PUBLISH
X-ORIGINAL-URL:https://www.socialekalender.be
X-WR-CALDESC:Evenementen voor Sociale Kalender
REFRESH-INTERVAL;VALUE=DURATION:PT1H
X-Robots-Tag:noindex
X-PUBLISHED-TTL:PT1H
BEGIN:VTIMEZONE
TZID:Europe/Brussels
BEGIN:DAYLIGHT
TZOFFSETFROM:+0100
TZOFFSETTO:+0200
TZNAME:CEST
DTSTART:20210328T010000
END:DAYLIGHT
BEGIN:STANDARD
TZOFFSETFROM:+0200
TZOFFSETTO:+0100
TZNAME:CET
DTSTART:20211031T010000
END:STANDARD
END:VTIMEZONE
BEGIN:VEVENT
DTSTART;TZID=Europe/Brussels:20211014T100000
DTEND;TZID=Europe/Brussels:20211014T120000
DTSTAMP:20260422T022333
CREATED:20210927T190712Z
LAST-MODIFIED:20210927T190712Z
UID:6056-1634205600-1634212800@www.socialekalender.be
SUMMARY:Bernard Delhaise spreekt over zijn spiritualiteit
DESCRIPTION:Bernard Delhaise\, katholiek priester\, heeft gewerkt als aalmoezenier van de Waalse CSC (ACV)\, was medepriester in Zolder Centrum en Kiewit\, en stichter van Kerkwerk Multicultureel Samenleven (nu Orbit). In 2001 stond hij aan de wieg van de Werkgroep Interreligieuze Dialoog Limburg en organiseerde hij interreligieuze meditaties. Hij komt in dialoog met Bert Smeets en Carla Maria spreken over zijn geloofsvisie\, die voortdurend in ontwikkeling is. Kwantumtheologie en Maria Magdalena vormen twee pijlers van zijn uiteenzetting.
URL:https://www.socialekalender.be/evenement/bernard-delhaise-spreekt-over-zijn-spiritualiteit/
LOCATION:Huis Ulburghs\, Sint-Annastraat 7\, Zolder\, 3550\, België
ATTACH;FMTTYPE=image/jpeg:https://www.socialekalender.be/wp-content/uploads/2021/09/Bernard-Delhaise.jpg
END:VEVENT
END:VCALENDAR