BEGIN:VCALENDAR
VERSION:2.0
PRODID:-//Sociale Kalender - ECPv6.2.9//NONSGML v1.0//EN
CALSCALE:GREGORIAN
METHOD:PUBLISH
X-ORIGINAL-URL:https://www.socialekalender.be
X-WR-CALDESC:Evenementen voor Sociale Kalender
REFRESH-INTERVAL;VALUE=DURATION:PT1H
X-Robots-Tag:noindex
X-PUBLISHED-TTL:PT1H
BEGIN:VTIMEZONE
TZID:Europe/Brussels
BEGIN:DAYLIGHT
TZOFFSETFROM:+0100
TZOFFSETTO:+0200
TZNAME:CEST
DTSTART:20210328T010000
END:DAYLIGHT
BEGIN:STANDARD
TZOFFSETFROM:+0200
TZOFFSETTO:+0100
TZNAME:CET
DTSTART:20211031T010000
END:STANDARD
END:VTIMEZONE
BEGIN:VEVENT
DTSTART;TZID=Europe/Brussels:20211017T130000
DTEND;TZID=Europe/Brussels:20211017T170000
DTSTAMP:20260421T232419
CREATED:20210927T184726Z
LAST-MODIFIED:20210927T184726Z
UID:6028-1634475600-1634490000@www.socialekalender.be
SUMMARY:Kerngroep Kansarmoede Hasselt houdt dag tegen armoede
DESCRIPTION:17 oktober wordt door de VN erkend als Internationale Dag van de Strijd tegen de Armoede. De Kerngroep Kansarmoede Hasselt\, een netwerk van Hasseltse armoedeverenigingen\, houdt dan traditiegetrouw een activiteit voor de eigen mensen én voor alle anderen die zich betrokken voelen bij de armoedeproblematiek. Deze keer werd er gekozen voor een laagdrempelige samenkomst\, los en wars van strakke organisatie. Iedereen is tussen 13 en 17 uur welkom bij de Sint-Vincentiusafdeling Het Gebaar van Kuringen om er in persoonlijk contact te komen met mensen die in armoede leven en met de werking van Sint-Vincentius. Sport- en vrijetijdsverenigingen stellen er zichzelf voor. Ondertussen kan men een frietje eten met een hamburger (met vlees\, halal of vegetarisch).
URL:https://www.socialekalender.be/evenement/kerngroep-kansarmoede-hasselt-houdt-dag-tegen-armoede/
LOCATION:Vincentius Het Gebaar\, Crutzenstraat 94\, Kuringen-Hasselt\, Limburg\, 3511\, België
ATTACH;FMTTYPE=image/jpeg:https://www.socialekalender.be/wp-content/uploads/2021/09/armoede-2.jpg
END:VEVENT
END:VCALENDAR