BEGIN:VCALENDAR
VERSION:2.0
PRODID:-//Sociale Kalender - ECPv6.2.9//NONSGML v1.0//EN
CALSCALE:GREGORIAN
METHOD:PUBLISH
X-WR-CALNAME:Sociale Kalender
X-ORIGINAL-URL:https://www.socialekalender.be
X-WR-CALDESC:Evenementen voor Sociale Kalender
REFRESH-INTERVAL;VALUE=DURATION:PT1H
X-Robots-Tag:noindex
X-PUBLISHED-TTL:PT1H
BEGIN:VTIMEZONE
TZID:Europe/Brussels
BEGIN:DAYLIGHT
TZOFFSETFROM:+0100
TZOFFSETTO:+0200
TZNAME:CEST
DTSTART:20210328T010000
END:DAYLIGHT
BEGIN:STANDARD
TZOFFSETFROM:+0200
TZOFFSETTO:+0100
TZNAME:CET
DTSTART:20211031T010000
END:STANDARD
END:VTIMEZONE
BEGIN:VEVENT
DTSTART;TZID=Europe/Brussels:20211019T193000
DTEND;TZID=Europe/Brussels:20211019T220000
DTSTAMP:20260421T232421
CREATED:20200328T162252Z
LAST-MODIFIED:20210621T081650Z
UID:4084-1634671800-1634680800@www.socialekalender.be
SUMMARY:Jan Peumans geeft dialectlezing
DESCRIPTION:Jan Peumans blikt tijdens deze voordracht terug op zijn politieke werkzaamheden\, maar ook op zijn privéleven. Daarbij reflecteert hij over zijn drijfveren. Maar hij wil ons ook een blik gunnen op zijn toekomstplannen\, met o.a. een doctoraat. Voor zijn uiteenzetting gebruikt hij niet zijn moedertaal uit Herderen\, maar het Maaslands. Jan is polyglot.
URL:https://www.socialekalender.be/evenement/jan-peumans-geeft-dialectlezing/
LOCATION:Buurthuis Statiewijk\, Nielerlaan 106 (vlakbij Station)\, As\, 3668
ATTACH;FMTTYPE=image/jpeg:https://www.socialekalender.be/wp-content/uploads/2020/03/janpeumans.jpg
END:VEVENT
BEGIN:VEVENT
DTSTART;TZID=Europe/Brussels:20211019T200000
DTEND;TZID=Europe/Brussels:20211019T220000
DTSTAMP:20260421T232421
CREATED:20210927T183703Z
LAST-MODIFIED:20210927T183703Z
UID:6018-1634673600-1634680800@www.socialekalender.be
SUMMARY:Ruben Weytjens over klimaatverandering
DESCRIPTION:Tijdens deze lezing schept weerman Ruben Weytjens een duidelijk beeld van de feiten\, gebaseerd op de algemene consensus in de klimaatwetenschap. Inschrijven door storting van € 9 (€ 8 voor leden) op BE04 4500 4915 7131 van de Limburgse Milieukoepel met vermelding van je naam en “klimaat”.
URL:https://www.socialekalender.be/evenement/ruben-weytjens-over-klimaatverandering/
LOCATION:Bezoekerscentrum Kiewit\, Natuurpunt\, Putvennestraat 112\, Hasselt-Kiewit\, 3500
ATTACH;FMTTYPE=image/jpeg:https://www.socialekalender.be/wp-content/uploads/2021/09/klimaatopwarming.jpg
END:VEVENT
END:VCALENDAR