BEGIN:VCALENDAR
VERSION:2.0
PRODID:-//Sociale Kalender - ECPv6.2.9//NONSGML v1.0//EN
CALSCALE:GREGORIAN
METHOD:PUBLISH
X-ORIGINAL-URL:https://www.socialekalender.be
X-WR-CALDESC:Evenementen voor Sociale Kalender
REFRESH-INTERVAL;VALUE=DURATION:PT1H
X-Robots-Tag:noindex
X-PUBLISHED-TTL:PT1H
BEGIN:VTIMEZONE
TZID:Europe/Brussels
BEGIN:DAYLIGHT
TZOFFSETFROM:+0100
TZOFFSETTO:+0200
TZNAME:CEST
DTSTART:20210328T010000
END:DAYLIGHT
BEGIN:STANDARD
TZOFFSETFROM:+0200
TZOFFSETTO:+0100
TZNAME:CET
DTSTART:20211031T010000
END:STANDARD
END:VTIMEZONE
BEGIN:VEVENT
DTSTART;TZID=Europe/Brussels:20211022T200000
DTEND;TZID=Europe/Brussels:20211022T200000
DTSTAMP:20260421T232418
CREATED:20210913T085006Z
LAST-MODIFIED:20210913T085006Z
UID:5988-1634932800-1634932800@www.socialekalender.be
SUMMARY:Limburgs Landschap 50 jaar
DESCRIPTION:Natuurvereniging Limburgs Landschap vzw beheert en beschermt bijna 3.000 ha natuur in Limburg. En dat al sinds 1971! We blazen op 22 oktober 50 kaarsjes uit op een feestavond. Stijn Meuris brengt een natuurbabbel\, we vertonen een lokale natuurdocumentaire\, we gaan in debat met o.a. minister Zuhal Demir en beginnen omstreeks 21.35u aan de receptie.
URL:https://www.socialekalender.be/evenement/limburgs-landschap-50-jaar/
LOCATION:CC De Muze\, Dekenstraat 40\, Heusden Zolder\, 3550\, België
ATTACH;FMTTYPE=image/png:https://www.socialekalender.be/wp-content/uploads/2021/09/Limburgs-Landschap-logo-1.png
END:VEVENT
END:VCALENDAR