BEGIN:VCALENDAR
VERSION:2.0
PRODID:-//Sociale Kalender - ECPv6.2.9//NONSGML v1.0//EN
CALSCALE:GREGORIAN
METHOD:PUBLISH
X-ORIGINAL-URL:https://www.socialekalender.be
X-WR-CALDESC:Evenementen voor Sociale Kalender
REFRESH-INTERVAL;VALUE=DURATION:PT1H
X-Robots-Tag:noindex
X-PUBLISHED-TTL:PT1H
BEGIN:VTIMEZONE
TZID:Europe/Brussels
BEGIN:DAYLIGHT
TZOFFSETFROM:+0100
TZOFFSETTO:+0200
TZNAME:CEST
DTSTART:20210328T010000
END:DAYLIGHT
BEGIN:STANDARD
TZOFFSETFROM:+0200
TZOFFSETTO:+0100
TZNAME:CET
DTSTART:20211031T010000
END:STANDARD
END:VTIMEZONE
BEGIN:VEVENT
DTSTART;TZID=Europe/Brussels:20211023T130000
DTEND;TZID=Europe/Brussels:20211023T170000
DTSTAMP:20260422T022333
CREATED:20210515T131727Z
LAST-MODIFIED:20210705T150447Z
UID:5566-1634994000-1635008400@www.socialekalender.be
SUMMARY:Repaircafé in Winterslag
DESCRIPTION:Een repaircafé is een bijeenkomst waar mensen hun spullen met de hulp van anderen herstellen. In Winterslag werken ze breed: computers\, smartphones\, software\, elektrische toestellen (senseo niet)\, fietsen\, kleding en horloges. Er zijn een 10-tal vaklui aanwezig met het nodige materiaal. De herstellingen zijn gratis\, maar voor wisselstukken kan de aankoopprijs gevraagd worden. Maximum drie stuks per persoon. Er is ook drank aanwezig\, zodat het repaircafé een sociale activiteit wordt. Iedereen is welkom\, al is het maar om een praatje te slaan.
URL:https://www.socialekalender.be/evenement/repaircafe-in-sledderlo/
LOCATION:Buurthuis Passerel\, Noordlaan 133 bus 2\, Genk\, Limburg\, 3600\, België
ATTACH;FMTTYPE=image/jpeg:https://www.socialekalender.be/wp-content/uploads/2021/05/Repair-cafe-3.jpg
END:VEVENT
BEGIN:VEVENT
DTSTART;TZID=Europe/Brussels:20211023T200000
DTEND;TZID=Europe/Brussels:20211023T200000
DTSTAMP:20260422T022333
CREATED:20211011T125900Z
LAST-MODIFIED:20211011T131542Z
UID:6091-1635019200-1635019200@www.socialekalender.be
SUMMARY:De Noordpool\, gebied in ongeziene overgang
DESCRIPTION:Uitgestrekte natuurbranden in het hoge noorden\, een Arctische zee met een extreem lage hoeveelheid zee-ijs\, temperaturen tot 32°C in Alaska\, een ‘hittegolf’ in Groenland en blikseminslagen rond de noordpool. Ook 2021 was een jaar van extremen in het noordpoolgebied. Eerder dit jaar verscheen een alarmerend rapport dat beschrijft hoe het gebied zich beweegt naar een nog ongekende staat\, waarin veranderingen in de verschillende systemen elkaar beïnvloeden én vaak ook versterken. \nDe spreker\, Bert Wouters\, studeerde af als Lucht- en Ruimtevaartingenieur in Delft. Sinds 2015 werkt hij aan de Universiteit Utrecht\, waar hij focust op het gebruik van satellieten om de klimaatverandering in kaart te brengen\, vooral in de poolgebieden.
URL:https://www.socialekalender.be/evenement/de-noodpool-gebied-in-ongeziene-overgang/
LOCATION:Stadhuis Genk\, Stadsplein 1\, Genk\, 3600
ATTACH;FMTTYPE=image/jpeg:https://www.socialekalender.be/wp-content/uploads/2021/10/noordpool.jpg
END:VEVENT
END:VCALENDAR