BEGIN:VCALENDAR
VERSION:2.0
PRODID:-//Sociale Kalender - ECPv6.2.9//NONSGML v1.0//EN
CALSCALE:GREGORIAN
METHOD:PUBLISH
X-ORIGINAL-URL:https://www.socialekalender.be
X-WR-CALDESC:Evenementen voor Sociale Kalender
REFRESH-INTERVAL;VALUE=DURATION:PT1H
X-Robots-Tag:noindex
X-PUBLISHED-TTL:PT1H
BEGIN:VTIMEZONE
TZID:Europe/Brussels
BEGIN:DAYLIGHT
TZOFFSETFROM:+0100
TZOFFSETTO:+0200
TZNAME:CEST
DTSTART:20210328T010000
END:DAYLIGHT
BEGIN:STANDARD
TZOFFSETFROM:+0200
TZOFFSETTO:+0100
TZNAME:CET
DTSTART:20211031T010000
END:STANDARD
END:VTIMEZONE
BEGIN:VEVENT
DTSTART;TZID=Europe/Brussels:20211024T110000
DTEND;TZID=Europe/Brussels:20211024T180000
DTSTAMP:20260422T022334
CREATED:20210128T103330Z
LAST-MODIFIED:20210128T103330Z
UID:5132-1635073200-1635098400@www.socialekalender.be
SUMMARY:Ecopolis
DESCRIPTION:Ecopolis is de opvolger van “Het groene boek” en is ondertussen aan zijn zevende editie toe. Deze boekenbeurs blijft de ontmoetingsplek voor wie begaan is met een sociale en duurzame toekomst. Met voordrachten\, dialoogtafels\, documentaires enz..  Met gastsprekers uit binnen- en buitenland. Er is simultane vertaling voorzien. Meer en actuele informatie op www.ecopolis.be.
URL:https://www.socialekalender.be/evenement/ecopolis/
LOCATION:Kaaitheater\, Sainctelettesquare 20\, Brussel\, 1000\, België
ATTACH;FMTTYPE=image/png:https://www.socialekalender.be/wp-content/uploads/2020/03/REcopolis.png
END:VEVENT
END:VCALENDAR