BEGIN:VCALENDAR
VERSION:2.0
PRODID:-//Sociale Kalender - ECPv6.2.9//NONSGML v1.0//EN
CALSCALE:GREGORIAN
METHOD:PUBLISH
X-WR-CALNAME:Sociale Kalender
X-ORIGINAL-URL:https://www.socialekalender.be
X-WR-CALDESC:Evenementen voor Sociale Kalender
REFRESH-INTERVAL;VALUE=DURATION:PT1H
X-Robots-Tag:noindex
X-PUBLISHED-TTL:PT1H
BEGIN:VTIMEZONE
TZID:Europe/Brussels
BEGIN:DAYLIGHT
TZOFFSETFROM:+0100
TZOFFSETTO:+0200
TZNAME:CEST
DTSTART:20210328T010000
END:DAYLIGHT
BEGIN:STANDARD
TZOFFSETFROM:+0200
TZOFFSETTO:+0100
TZNAME:CET
DTSTART:20211031T010000
END:STANDARD
END:VTIMEZONE
BEGIN:VEVENT
DTSTART;TZID=Europe/Brussels:20211031T133000
DTEND;TZID=Europe/Brussels:20211031T133000
DTSTAMP:20260421T232422
CREATED:20210913T083432Z
LAST-MODIFIED:20210913T083432Z
UID:5977-1635687000-1635687000@www.socialekalender.be
SUMMARY:Ligconcert van Gylania
DESCRIPTION:Liesbeth Verbeek en Koen Fossey nodigen u uit op dit evenement\, waarbij het muzikale landschap bestaat uit akoestische instrumenten\, de menselijke stem en eigen studio-opnamen. Het ensemble put uit ingetogen stukken waarbij rust en intimiteit het uitgangspunt zijn. Inschrijven is nodig omwille van het beperkt aantal ligplaatsen. Mee te brengen: ligmat\, deken\, kussen\, warme sokken\, flesje water. De deuren gaan dicht om 13.50u\, zodat het concert stipt om 14u kan beginnen.
URL:https://www.socialekalender.be/evenement/ligconcert-van-gylania/
LOCATION:OC Steborg\, Broekstraat 1\, Stevoort-Hasselt\, Limburg\, 3512\, België
ATTACH;FMTTYPE=image/jpeg:https://www.socialekalender.be/wp-content/uploads/2021/09/Gylania-figuur.jpg
END:VEVENT
BEGIN:VEVENT
DTSTART;TZID=Europe/Brussels:20211031T140000
DTEND;TZID=Europe/Brussels:20211031T170000
DTSTAMP:20260421T232422
CREATED:20210312T142653Z
LAST-MODIFIED:20210312T142653Z
UID:5317-1635688800-1635699600@www.socialekalender.be
SUMMARY:Minderbroeders en epidemieën (einde expo)
DESCRIPTION:Met gevaar voor eigen leven ontfermden de minderbroeders zich de voorbije eeuwen over mensen met besmettelijke ziekten. Paters boden zich vrijwillig aan\, al wisten ze goed dat de pest e.a. dodelijke ziekten waren. Deze zelfopoffering was een bewuste keuze. Op de kloostersite stond er een afgezonderd pesthuis. \nDeze geschiedenis komt\, samen met enkele kunstwerken\, aan bod in een kleine expo onder de titel “Zorgen zit in ons verhaal”. Tegelijk kan de bezoeker ook de andere\, permanente tentoonstellingen bezoeken. Openingsuren: di – za 10-12.30u en 13-17u\, zo en feestdagen 14-17u\, maandag gesloten.
URL:https://www.socialekalender.be/evenement/minderbroeders-en-epidemieen-einde-expo/
LOCATION:Museum de Mindere\, Capusienessenstraat 1\, St Truiden\, Limburg\, 3800\, België
ATTACH;FMTTYPE=image/jpeg:https://www.socialekalender.be/wp-content/uploads/2021/03/Zorgen-zit-in-ons-verhaal.jpg
END:VEVENT
END:VCALENDAR