BEGIN:VCALENDAR
VERSION:2.0
PRODID:-//Sociale Kalender - ECPv6.2.9//NONSGML v1.0//EN
CALSCALE:GREGORIAN
METHOD:PUBLISH
X-ORIGINAL-URL:https://www.socialekalender.be
X-WR-CALDESC:Evenementen voor Sociale Kalender
REFRESH-INTERVAL;VALUE=DURATION:PT1H
X-Robots-Tag:noindex
X-PUBLISHED-TTL:PT1H
BEGIN:VTIMEZONE
TZID:Europe/Brussels
BEGIN:DAYLIGHT
TZOFFSETFROM:+0100
TZOFFSETTO:+0200
TZNAME:CEST
DTSTART:20210328T010000
END:DAYLIGHT
BEGIN:STANDARD
TZOFFSETFROM:+0200
TZOFFSETTO:+0100
TZNAME:CET
DTSTART:20211031T010000
END:STANDARD
END:VTIMEZONE
BEGIN:VEVENT
DTSTART;TZID=Europe/Brussels:20211102T190000
DTEND;TZID=Europe/Brussels:20211102T203000
DTSTAMP:20260421T135325
CREATED:20211025T150316Z
LAST-MODIFIED:20211025T150316Z
UID:6154-1635879600-1635885000@www.socialekalender.be
SUMMARY:Het gezicht van de dood
DESCRIPTION:In deze lezing staan we stil bij de manier hoe verschillende culturen de dood herdenken of vieren. We doen dit door kunstwerken uit de beeldende kunst en de gebruiken van verschillende volken te bespreken. Tenslotte doorgronden we de betekenis van de dood\, de ziel en onze behoefte om de dood te herdenken. Dit is een online lezing. De dag voor de lezing krijgt u een link om aan deze activiteit deel te nemen. Om de interactiviteit te bevorderen\, wordt u vriendelijk verzocht om uw camera en microfoon aan te zetten. Begeleiding: Alejandro Chavez Saenz\, cultureel antropoloog van Peruviaanse afkomst. € 5\, voor mensen met een verhoogde tegemoetkoming of Uitpas kansentarief € 1.
URL:https://www.socialekalender.be/evenement/het-gezicht-van-de-dood/
LOCATION:ONLINE
ATTACH;FMTTYPE=image/jpeg:https://www.socialekalender.be/wp-content/uploads/2021/10/Alejandro.jpg
END:VEVENT
END:VCALENDAR