BEGIN:VCALENDAR
VERSION:2.0
PRODID:-//Sociale Kalender - ECPv6.2.9//NONSGML v1.0//EN
CALSCALE:GREGORIAN
METHOD:PUBLISH
X-WR-CALNAME:Sociale Kalender
X-ORIGINAL-URL:https://www.socialekalender.be
X-WR-CALDESC:Evenementen voor Sociale Kalender
REFRESH-INTERVAL;VALUE=DURATION:PT1H
X-Robots-Tag:noindex
X-PUBLISHED-TTL:PT1H
BEGIN:VTIMEZONE
TZID:Europe/Brussels
BEGIN:DAYLIGHT
TZOFFSETFROM:+0100
TZOFFSETTO:+0200
TZNAME:CEST
DTSTART:20210328T010000
END:DAYLIGHT
BEGIN:STANDARD
TZOFFSETFROM:+0200
TZOFFSETTO:+0100
TZNAME:CET
DTSTART:20211031T010000
END:STANDARD
END:VTIMEZONE
BEGIN:VEVENT
DTSTART;TZID=Europe/Brussels:20211104T200000
DTEND;TZID=Europe/Brussels:20211104T200000
DTSTAMP:20260421T121857
CREATED:20211019T151313Z
LAST-MODIFIED:20211019T151313Z
UID:6131-1636056000-1636056000@www.socialekalender.be
SUMMARY:China in onze wereld
DESCRIPTION:Econoom Carlos Polenus onderhield voor de Europese vakbond jarenlang vele contacten met en in China. Hij leidt enkele thema’s in: hoe staat China tegenover de rest van de wereld\, en hoe staan wij tegenover China? Daarna kunnen de aanwezigen met hem en onder elkaar in gesprek gaan. China trekt voortdurend onze aandacht in economische\, politieke en militaire aangelegenheden en in kwesties van veiligheid en privacy.
URL:https://www.socialekalender.be/evenement/china-in-onze-wereld/
LOCATION:Vrijzinnig Punt en Boekhandel Grim
ATTACH;FMTTYPE=image/jpeg:https://www.socialekalender.be/wp-content/uploads/2021/10/China.jpg
END:VEVENT
END:VCALENDAR