BEGIN:VCALENDAR
VERSION:2.0
PRODID:-//Sociale Kalender - ECPv6.2.9//NONSGML v1.0//EN
CALSCALE:GREGORIAN
METHOD:PUBLISH
X-ORIGINAL-URL:https://www.socialekalender.be
X-WR-CALDESC:Evenementen voor Sociale Kalender
REFRESH-INTERVAL;VALUE=DURATION:PT1H
X-Robots-Tag:noindex
X-PUBLISHED-TTL:PT1H
BEGIN:VTIMEZONE
TZID:Europe/Brussels
BEGIN:DAYLIGHT
TZOFFSETFROM:+0100
TZOFFSETTO:+0200
TZNAME:CEST
DTSTART:20210328T010000
END:DAYLIGHT
BEGIN:STANDARD
TZOFFSETFROM:+0200
TZOFFSETTO:+0100
TZNAME:CET
DTSTART:20211031T010000
END:STANDARD
END:VTIMEZONE
BEGIN:VEVENT
DTSTART;TZID=Europe/Brussels:20211109T190000
DTEND;TZID=Europe/Brussels:20211109T210000
DTSTAMP:20260421T135323
CREATED:20211106T133906Z
LAST-MODIFIED:20211106T133906Z
UID:6222-1636484400-1636491600@www.socialekalender.be
SUMMARY:Noord-Zuid samen voor duurzame wereld
DESCRIPTION:Tijdens deze thema-avond rond energie en duurzaamheid in Afrika kunt u kennismaken met verschillende verenigingen die\, elk vanuit hun eigen invalshoek\, vertellen over hun projecten in ontwikkelingslanden rond duurzaamheid en energie. Er zijn toespraken van o.a. prof. Wim Deferme en ir. Luc Stevens\, een panelgesprek\, een voorstelling van een nieuw studentenproject\,… De receptie achteraf biedt u 2 gratis consumpties\, bijkomende drank en pizza ten voordele van de vzw S.E.A. Onthaal vanaf 18.30u. Coronapas vereist.
URL:https://www.socialekalender.be/evenement/noord-zuid-samen-voor-duurzame-wereld/
LOCATION:Universitaire Campus (gebouw D)\, Diepenbeek\, 3590
ATTACH;FMTTYPE=image/jpeg:https://www.socialekalender.be/wp-content/uploads/2021/11/SEA.jpg
END:VEVENT
END:VCALENDAR