BEGIN:VCALENDAR
VERSION:2.0
PRODID:-//Sociale Kalender - ECPv6.2.9//NONSGML v1.0//EN
CALSCALE:GREGORIAN
METHOD:PUBLISH
X-WR-CALNAME:Sociale Kalender
X-ORIGINAL-URL:https://www.socialekalender.be
X-WR-CALDESC:Evenementen voor Sociale Kalender
REFRESH-INTERVAL;VALUE=DURATION:PT1H
X-Robots-Tag:noindex
X-PUBLISHED-TTL:PT1H
BEGIN:VTIMEZONE
TZID:Europe/Brussels
BEGIN:DAYLIGHT
TZOFFSETFROM:+0100
TZOFFSETTO:+0200
TZNAME:CEST
DTSTART:20210328T010000
END:DAYLIGHT
BEGIN:STANDARD
TZOFFSETFROM:+0200
TZOFFSETTO:+0100
TZNAME:CET
DTSTART:20211031T010000
END:STANDARD
END:VTIMEZONE
BEGIN:VEVENT
DTSTART;TZID=Europe/Brussels:20211115T110000
DTEND;TZID=Europe/Brussels:20211115T120000
DTSTAMP:20260421T135327
CREATED:20211029T110254Z
LAST-MODIFIED:20211029T110254Z
UID:6172-1636974000-1636977600@www.socialekalender.be
SUMMARY:Naar meer plantaardig voedsel
DESCRIPTION:In dit webinar gaan we dieper in op wat de eiwittransitie precies is en waarom die shift naar een meer plantaardig voedselpatroon zo belangrijk is. We zoomen in op de belangrijkste uitdagingen die ons voedselsysteem kenmerkt\, en hebben hierbij bijzondere aandacht voor de Vlaamse situatie. Zorgt een dalende vleesconsumptie voor een dalende productie in Vlaanderen? Kan een circulair voedingssysteem een antwoord bieden? We exploreren oplossingsrichtingen en leggen de link tussen ons voedselsysteem en diverse andere uitdagingen die onze samenleving kenmerkt. Heleen De Smet\, beleidsmedewerker Voeding en Landbouw  bij de Bond Beter Leefmilieu geeft deze webinar. Heleen is gepassioneerd door wat er op uw bord ligt\, maar ook door de vraag hoe we onze voeding weer in balans krijgen met het leefmilieu. Zo trekt ze aan de kar van de eiwittransitie\, richting meer plantaardig voedsel en pleit ze voor duurzame productieprocessen in de landbouw. Inschrijven via www.grootoudersvoorhetklimaat.be/agenda/. Bij inschrijving wordt de link u tijdig doorgestuurd. Wachtkamer vanaf 10.45u.
URL:https://www.socialekalender.be/evenement/naar-meer-plantaardig-voedsel/
LOCATION:ONLINE
ATTACH;FMTTYPE=image/png:https://www.socialekalender.be/wp-content/uploads/2021/10/Heleen-De-Smet.png
END:VEVENT
END:VCALENDAR