BEGIN:VCALENDAR
VERSION:2.0
PRODID:-//Sociale Kalender - ECPv6.2.9//NONSGML v1.0//EN
CALSCALE:GREGORIAN
METHOD:PUBLISH
X-WR-CALNAME:Sociale Kalender
X-ORIGINAL-URL:https://www.socialekalender.be
X-WR-CALDESC:Evenementen voor Sociale Kalender
REFRESH-INTERVAL;VALUE=DURATION:PT1H
X-Robots-Tag:noindex
X-PUBLISHED-TTL:PT1H
BEGIN:VTIMEZONE
TZID:Europe/Brussels
BEGIN:DAYLIGHT
TZOFFSETFROM:+0100
TZOFFSETTO:+0200
TZNAME:CEST
DTSTART:20210328T010000
END:DAYLIGHT
BEGIN:STANDARD
TZOFFSETFROM:+0200
TZOFFSETTO:+0100
TZNAME:CET
DTSTART:20211031T010000
END:STANDARD
END:VTIMEZONE
BEGIN:VEVENT
DTSTART;TZID=Europe/Brussels:20211116T193000
DTEND;TZID=Europe/Brussels:20211116T193000
DTSTAMP:20260421T135328
CREATED:20211106T125459Z
LAST-MODIFIED:20211106T125459Z
UID:6202-1637091000-1637091000@www.socialekalender.be
SUMMARY:Stemmen van de migratie vroeger en nu
DESCRIPTION:Het Forum Samenleven in Diversiteit\, Beweging.net en het Internationaal Comité organiseren een panelgesprek over de historische context en de mechanismen achter de migratiegeschiedenis. Journalist Tom Naegels (moderatie) zit aan tafel met Maryam Jamshid\, Aishat Mekiyeva\, Jamil Martis en Chelsea Nshuti.
URL:https://www.socialekalender.be/evenement/stemmen-van-de-migratie-vroeger-en-nu/
LOCATION:Schouwburg Stadhuis Genk\, Stadsplein 1\, Genk\, 3600\, België
ATTACH;FMTTYPE=image/jpeg:https://www.socialekalender.be/wp-content/uploads/2021/11/diversiteit-1.jpg
END:VEVENT
END:VCALENDAR