BEGIN:VCALENDAR
VERSION:2.0
PRODID:-//Sociale Kalender - ECPv6.2.9//NONSGML v1.0//EN
CALSCALE:GREGORIAN
METHOD:PUBLISH
X-WR-CALNAME:Sociale Kalender
X-ORIGINAL-URL:https://www.socialekalender.be
X-WR-CALDESC:Evenementen voor Sociale Kalender
REFRESH-INTERVAL;VALUE=DURATION:PT1H
X-Robots-Tag:noindex
X-PUBLISHED-TTL:PT1H
BEGIN:VTIMEZONE
TZID:Europe/Brussels
BEGIN:DAYLIGHT
TZOFFSETFROM:+0100
TZOFFSETTO:+0200
TZNAME:CEST
DTSTART:20210328T010000
END:DAYLIGHT
BEGIN:STANDARD
TZOFFSETFROM:+0200
TZOFFSETTO:+0100
TZNAME:CET
DTSTART:20211031T010000
END:STANDARD
END:VTIMEZONE
BEGIN:VEVENT
DTSTART;TZID=Europe/Brussels:20211119T200000
DTEND;TZID=Europe/Brussels:20211119T220000
DTSTAMP:20260421T135327
CREATED:20210824T074641Z
LAST-MODIFIED:20210824T074849Z
UID:5872-1637352000-1637359200@www.socialekalender.be
SUMMARY:The big five -hoe leven we samen?
DESCRIPTION:Het zĳn boeiende tĳden voor de natuur. Na decennia van afwezigheid zĳn enkele bĳzondere diersoorten weer teruggekeerd. Bever\, ever en wolf zĳn terug. Otter en edelhert staan voor de deur. Helaas kennen we elkaar niet zo goed en ontstaan hier en daar conflicten. Nochtans zĳn er voorbeelden genoeg die aantonen dat samenleven best mogelĳk is. \nIn zijn lezing “Onze Big 5” gaat Joeri Cortens ons vertellen of er problemen zĳn tussen deze prachtige dieren en de mens. Joeri geeft ons inzicht in hun leefwereld en gaat in op verschillende vragen. Deze grotere zoogdieren leven alsmaar dichter bĳ onze woningen. Moeten we daar verontrust over zĳn? Hoe komt het dat deze ooit verdwenen dieren terug zĳn in onze contreien? Hoe kunnen we omspringen met de toename van deze dieren? Wat is de mogelĳke schade die ze kunnen aanrichten en hoe daar mee omgaan?
URL:https://www.socialekalender.be/evenement/the-big-five-hoe-leven-we-samen/
LOCATION:CC Panishof\, Bommershovenstraat 23\, Borgloon\, Limburg\, 3840\, België
ATTACH;FMTTYPE=image/jpeg:https://www.socialekalender.be/wp-content/uploads/2021/08/wolf.jpg
END:VEVENT
END:VCALENDAR