BEGIN:VCALENDAR
VERSION:2.0
PRODID:-//Sociale Kalender - ECPv6.2.9//NONSGML v1.0//EN
CALSCALE:GREGORIAN
METHOD:PUBLISH
X-ORIGINAL-URL:https://www.socialekalender.be
X-WR-CALDESC:Evenementen voor Sociale Kalender
REFRESH-INTERVAL;VALUE=DURATION:PT1H
X-Robots-Tag:noindex
X-PUBLISHED-TTL:PT1H
BEGIN:VTIMEZONE
TZID:Europe/Brussels
BEGIN:DAYLIGHT
TZOFFSETFROM:+0100
TZOFFSETTO:+0200
TZNAME:CEST
DTSTART:20210328T010000
END:DAYLIGHT
BEGIN:STANDARD
TZOFFSETFROM:+0200
TZOFFSETTO:+0100
TZNAME:CET
DTSTART:20211031T010000
END:STANDARD
END:VTIMEZONE
BEGIN:VEVENT
DTSTART;TZID=Europe/Brussels:20211120T093000
DTEND;TZID=Europe/Brussels:20211120T160000
DTSTAMP:20260421T135325
CREATED:20211011T133347Z
LAST-MODIFIED:20211011T133347Z
UID:6107-1637400600-1637424000@www.socialekalender.be
SUMMARY:Studiedag over Ibn al Arabi
DESCRIPTION:Ibn al-‘Arabi (Murcia 1165 – Damascus 1240)\, ook al-saych al-akbar ( de ‘Grootste Meester’) genoemd\, is – samen met Rumi – een van de beroemdste mystici uit de geschiedenis van de Islam. Essentieel is voor hem het bestaan van de verbeelding\, die de mens in staat stelt om op een aanvullende\, anders dan de rationele manier de Werkelijkheid\, de ‘Oneness of Being’ nabij te komen. Ibn al-‘Arabi laat talrijke geschriften na waarin hij een unieke bijdrage levert aan het debat tussen rede en spiritualiteit. Voor hem stelt de tussenwereld van de verbeelding de mens in staat om de werkelijkheid als een eenheid te begrijpen en te ervaren. Op het congres belichten we niet enkel de figuur van Ibn al-‘Arabi\, we vertalen tevens zijn ideeën naar vandaag. Zo maken we kennis met een ander\, voor velen verrassend gezicht van de islam. CIMIC vzw\, SPES-forum vzw en Waerbeke vzw werken een programma uit waarbij Gregory Vandamme\, Christine Gruwez en Marc Colpaert in de voormiddag het belang van Ibn al-‘Arabi en zijn visie op verbeelding en kosmos toelichten. In de namiddag vertellen Mohamed Ridouani\, Benoît Standaert\, Nyanchama Okemwa en Birsen Taspinar hoe de spirituele verbeeldingskracht van de filosoof nog steeds herkenbaar is en hun hedendaagse praktijk inspireert. Het geheel wordt opgeluisterd met soefi-muziek door Rachid Akhdim. Prijs inclusief broodjeslunch en receptie achteraf. Inschrijving: via www.spes-forum.be.
URL:https://www.socialekalender.be/evenement/studiedag-over-ibn-al-arabi/
ATTACH;FMTTYPE=image/jpeg:https://www.socialekalender.be/wp-content/uploads/2021/10/Ibn-al-Arabi.jpg
END:VEVENT
END:VCALENDAR