BEGIN:VCALENDAR
VERSION:2.0
PRODID:-//Sociale Kalender - ECPv6.2.9//NONSGML v1.0//EN
CALSCALE:GREGORIAN
METHOD:PUBLISH
X-ORIGINAL-URL:https://www.socialekalender.be
X-WR-CALDESC:Evenementen voor Sociale Kalender
REFRESH-INTERVAL;VALUE=DURATION:PT1H
X-Robots-Tag:noindex
X-PUBLISHED-TTL:PT1H
BEGIN:VTIMEZONE
TZID:Europe/Brussels
BEGIN:DAYLIGHT
TZOFFSETFROM:+0100
TZOFFSETTO:+0200
TZNAME:CEST
DTSTART:20210328T010000
END:DAYLIGHT
BEGIN:STANDARD
TZOFFSETFROM:+0200
TZOFFSETTO:+0100
TZNAME:CET
DTSTART:20211031T010000
END:STANDARD
END:VTIMEZONE
BEGIN:VEVENT
DTSTART;TZID=Europe/Brussels:20211121T140000
DTEND;TZID=Europe/Brussels:20211121T140000
DTSTAMP:20260421T164803
CREATED:20211104T154843Z
LAST-MODIFIED:20211104T154843Z
UID:6198-1637503200-1637503200@www.socialekalender.be
SUMMARY:Het zonnelied verbeeld: tentoonstelling
DESCRIPTION:Net voor de zomer organiseerde Museum De Mindere een wedstrijd voor beeldende kunst over de natuur\, onder de noemer “Het zonnelied verbeeld”. Dit Zonnelied werd 800 jaar geleden door Franciscus van Assisi geschreven\, en hij bezingt daarin de natuur\, van sterren tot water\, van jaargetijden tot de dood. De vier kunstenaars die een speciale vermelding van de jury kregen zullen op 21 november samen met winnares Brigitte Slabbynck hun kunstwerk en visie toelichten. De aanwezigen kunnen met de kunstenaars in gesprek gaan. Daarnaast is er een tentoonstelling met werken van 35 deelnemende kunstenaars. Welkom vafa 14u\, start om 15u.
URL:https://www.socialekalender.be/evenement/het-zonnelied-verbeeld-tentoonstelling/
LOCATION:Museum de Mindere\, Capusienessenstraat 1\, St Truiden\, Limburg\, 3800\, België
ATTACH;FMTTYPE=image/jpeg:https://www.socialekalender.be/wp-content/uploads/2021/11/Brigitte-Slabbynck-2.jpg
END:VEVENT
BEGIN:VEVENT
DTSTART;TZID=Europe/Brussels:20211121T153000
DTEND;TZID=Europe/Brussels:20211121T153000
DTSTAMP:20260421T164803
CREATED:20211106T135310Z
LAST-MODIFIED:20211106T135310Z
UID:6227-1637508600-1637508600@www.socialekalender.be
SUMMARY:Herself (film)
DESCRIPTION:De sociaal bewogen film Herself is een verhaal over wonen\, een gebroken gezin en de strijd tegen armoede en huiselijk geweld. Het speelt zich af in Ierland\, maar is heel herkenbaar. Deze bij momenten grimmige film zit toch ook boordevol warme solidariteit. Welzijnszorg zal sfeerbeelden filmen en korte quotes opnemen voor en -vooral- na de film. Onthaal om 15u\, inleidend woordje\, drankje achteraf. Einde rond 18.30u. Reserveren voor 19 november via een korte mail naar inge.koekelkoren@welzijnszorg.be\, met “film hersel” als onderwerp en met in het bericht het aantal tickets. Volwassenen € 8\, gepensioneerden 60+ €7\, studenten € 6\,50. Jouw envelop met tickets ligt op 21 november vanaf 15u op naam van Welzijnszorg en alfabetisch op naam van jouw e-mailadres klaar aan de inkom. Je betaalt ter plaatse.
URL:https://www.socialekalender.be/evenement/herself-film/
ATTACH;FMTTYPE=image/jpeg:https://www.socialekalender.be/wp-content/uploads/2021/11/herself.jpg
END:VEVENT
END:VCALENDAR