BEGIN:VCALENDAR
VERSION:2.0
PRODID:-//Sociale Kalender - ECPv6.2.9//NONSGML v1.0//EN
CALSCALE:GREGORIAN
METHOD:PUBLISH
X-WR-CALNAME:Sociale Kalender
X-ORIGINAL-URL:https://www.socialekalender.be
X-WR-CALDESC:Evenementen voor Sociale Kalender
REFRESH-INTERVAL;VALUE=DURATION:PT1H
X-Robots-Tag:noindex
X-PUBLISHED-TTL:PT1H
BEGIN:VTIMEZONE
TZID:Europe/Brussels
BEGIN:DAYLIGHT
TZOFFSETFROM:+0100
TZOFFSETTO:+0200
TZNAME:CEST
DTSTART:20210328T010000
END:DAYLIGHT
BEGIN:STANDARD
TZOFFSETFROM:+0200
TZOFFSETTO:+0100
TZNAME:CET
DTSTART:20211031T010000
END:STANDARD
END:VTIMEZONE
BEGIN:VEVENT
DTSTART;TZID=Europe/Brussels:20211122T100000
DTEND;TZID=Europe/Brussels:20211122T120000
DTSTAMP:20260421T135328
CREATED:20210905T090615Z
LAST-MODIFIED:20210905T090615Z
UID:5933-1637575200-1637582400@www.socialekalender.be
SUMMARY:Dirk Vansintjan over klimaattop Glasgow (webinar)
DESCRIPTION:Van 1 tot 12 november komen de wereldleiders samen in Glasgow voor de COP 26\, een heel belangrijke klimaattop. Er moeten bindende en rechtvaardige afspraken worden gemaakt om de doelstellingen van het verdrag van Parijs (2015) waar te maken. Dirk Vansintjan zal de hele conferentie volgen en brengt verslag uit tijdens dit webinar. Hij is voorzitter van de federatie van energiecoöperaties. Meer informatie en inschrijven via de agenda van www.grootoudersvoorhetklimaat.be. \nhome2 – Grootouders voor het Klimaat\nGrootouders voor het Klimaat vzw Een leefbare wereld voor onze kleinkinderen Snelmenu HomeAgendaAmbassadeurs Nieuws… Nieuws Opinie Klimaatblog Thema’s Interviews Boeken Over ons… Wie zijn wij? Hoe werken we? Ons manifest Wereldwijd Persmap Contact Doe mee… Doe een gift Word lid Plan een activiteit Bestel een hesje Nieuwsbrief Wees mee… #onzecenten In de pers Meer weten […]\nwww.grootoudersvoorhetklimaat.be
URL:https://www.socialekalender.be/evenement/dirk-vansintjan-over-klimaattop-glasgow-webinar/
LOCATION:ONLINE
ATTACH;FMTTYPE=image/jpeg:https://www.socialekalender.be/wp-content/uploads/2021/09/Dirk-Vansintjan.jpg
END:VEVENT
END:VCALENDAR