BEGIN:VCALENDAR
VERSION:2.0
PRODID:-//Sociale Kalender - ECPv6.2.9//NONSGML v1.0//EN
CALSCALE:GREGORIAN
METHOD:PUBLISH
X-WR-CALNAME:Sociale Kalender
X-ORIGINAL-URL:https://www.socialekalender.be
X-WR-CALDESC:Evenementen voor Sociale Kalender
REFRESH-INTERVAL;VALUE=DURATION:PT1H
X-Robots-Tag:noindex
X-PUBLISHED-TTL:PT1H
BEGIN:VTIMEZONE
TZID:Europe/Brussels
BEGIN:DAYLIGHT
TZOFFSETFROM:+0100
TZOFFSETTO:+0200
TZNAME:CEST
DTSTART:20210328T010000
END:DAYLIGHT
BEGIN:STANDARD
TZOFFSETFROM:+0200
TZOFFSETTO:+0100
TZNAME:CET
DTSTART:20211031T010000
END:STANDARD
END:VTIMEZONE
BEGIN:VEVENT
DTSTART;TZID=Europe/Brussels:20211123T100000
DTEND;TZID=Europe/Brussels:20211123T170000
DTSTAMP:20260421T135328
CREATED:20210901T091444Z
LAST-MODIFIED:20210901T091444Z
UID:5906-1637661600-1637686800@www.socialekalender.be
SUMMARY:Het zonnelied verbeeld (expo)
DESCRIPTION:Al sinds jaar en dag is de natuur van onschatbare waarde voor mensen. Van rustpunt in een hectische wereld tot de basis voor de ontwikkeling van nieuwe technologieën. Van zuurstof voor het leven tot grote inspiratiebron van kunstenaars\, filosofen en geestelijken. Zo’n 800 jaar geleden bijvoorbeeld schreef Franciscus van Assisi zijn Zonnelied. Het is een gedicht waarin hij de natuur bezingt\, van sterren tot water\, van jaargetijden tot de dood. Dit voorjaar lanceerde Museum DE MINDERE in het kader van Zin in Zomer een oproep voor beeldende kunstenaars om hun kijk op onze complexe relatie met de natuur weer te geven. Met 210 inzendingen van zo’n 160 deelnemers bleek dat het thema 800 jaar na het Zonnelied nog steeds betekenisvol is. De jury koos uiteindelijk zo’n 36 laureaten die het thema in verschillende kunstvormen presenteren\, van schilderkunst tot film\, van installatiekunst tot lithografie. De vraag “Hoe voel jij je verbonden met de natuur?”\, is de rode draad doorheen de tentoonstelling  “Het Zonnelied Verbeeld”. Kom de verbondenheid van de laureaten met de natuur zelf ontdekken en laat je overdonderen door de werken van onze kunstwedstrijd Het Zonnelied Verbeeld! De tentoonstelling is tot en met 23 november geopend\, van di. tot za. van 10u tot 12.30u en van 13u tot 17u\, en op zon- en feestdagen van 14u tot 17u.
URL:https://www.socialekalender.be/evenement/het-zonnelied-verbeeld-expo/
LOCATION:Museum de Mindere\, Capusienessenstraat 1\, St Truiden\, Limburg\, 3800\, België
ATTACH;FMTTYPE=image/png:https://www.socialekalender.be/wp-content/uploads/2021/09/zonnelied-verbeeld.png
END:VEVENT
BEGIN:VEVENT
DTSTART;TZID=Europe/Brussels:20211123T141000
DTEND;TZID=Europe/Brussels:20211123T141000
DTSTAMP:20260421T135328
CREATED:20211029T124608Z
LAST-MODIFIED:20211029T124608Z
UID:6176-1637676600-1637676600@www.socialekalender.be
SUMMARY:Bezoek gevangenis Hasselt
DESCRIPTION:Het leven in detentie blijft een afgezonderde en geïsoleerde wereld. Met een bezoek aan de gevangenis van Hasselt doorbreken we dikke muren en maken we de dienstverlening van deMens.nu zichtbaar. Het gaat meer bepaald om categoriale dienstverlening in gevangenissen. Ook daar zetten gedreven collega’s zich  mee in bij ondersteuning van gedetineerden op weg naar hun vrijheid. Want zelfs door tralies en dikke muren denken Vrijzinnig Humanisten mee en zorgen ze voor de ander. Met een bezoek aan de gevangenis van Hasselt krijg je via onze collega van de Stichting voor Morele Bijstand aan Gevangenen een blik op het leven achter de gevangenismuren. Je krijgt er o.a. een rondleiding en ziet hoe gedetineerden leven en welke voorzieningen er zijn.
URL:https://www.socialekalender.be/evenement/bezoek-gevangenis-hasselt/
LOCATION:parking Gevangenis Hasselt\, Zwarte Brugstraat 4\, Hasselt\, Limburg\, 3500\, België
ATTACH;FMTTYPE=image/jpeg:https://www.socialekalender.be/wp-content/uploads/2021/10/gevangenis-Hasselt.jpg
END:VEVENT
BEGIN:VEVENT
DTSTART;TZID=Europe/Brussels:20211123T173000
DTEND;TZID=Europe/Brussels:20211123T173000
DTSTAMP:20260421T135328
CREATED:20211019T150544Z
LAST-MODIFIED:20211120T161811Z
UID:6125-1637688600-1637688600@www.socialekalender.be
SUMMARY:Werkgroep Armoede en Ecologisch Leven ( GEANNULEERD)
DESCRIPTION:Het ecologisch bewustzijn groeit\, maar voor mensen in armoede is het niet zo evident om deel te nemen aan een bewuste levensstijl. In het algemeen komen ze geregeld drempels tegen die het moeilijk maken om te participeren aan een ecologische leefwijze. De Universiteit voor het Maatschappelijk Belang wil hier uitdrukkelijk bij stilstaan. Daarom komen we geregeld samen met een overlegplatform van partners uit de ecologische en de armoedeorganisaties om gezamenlijk na te denken\, om samen een open dialoog op te zetten. Ook mensen uit de vakbonden en de nutsbedrijven\, het beleid\, … zitten mee aan tafel. De veelvuldige respons maakt duidelijk dat het onderwerp leeft. Op 23 november stellen we\, na de lange coronaperikelen\, weer een activiteitenagenda op. Ook bespreken we een nieuwe inventarisering van economische initiatieven met een sociaalecologisch profiel. Nieuwe mensen zijn welkom.
URL:https://www.socialekalender.be/evenement/werkgroep-armoede-en-ecologisch-leven-2/
LOCATION:Ontmoetingshuis De Sfeer\, Grotestraat 32\, Genk\, Limburg\, 3600\, België
ATTACH;FMTTYPE=image/jpeg:https://www.socialekalender.be/wp-content/uploads/2021/10/Werkgroep-Armoede-en-Ecologisch-Leven-1-scaled.jpg
END:VEVENT
END:VCALENDAR