BEGIN:VCALENDAR
VERSION:2.0
PRODID:-//Sociale Kalender - ECPv6.2.9//NONSGML v1.0//EN
CALSCALE:GREGORIAN
METHOD:PUBLISH
X-WR-CALNAME:Sociale Kalender
X-ORIGINAL-URL:https://www.socialekalender.be
X-WR-CALDESC:Evenementen voor Sociale Kalender
REFRESH-INTERVAL;VALUE=DURATION:PT1H
X-Robots-Tag:noindex
X-PUBLISHED-TTL:PT1H
BEGIN:VTIMEZONE
TZID:Europe/Brussels
BEGIN:DAYLIGHT
TZOFFSETFROM:+0100
TZOFFSETTO:+0200
TZNAME:CEST
DTSTART:20210328T010000
END:DAYLIGHT
BEGIN:STANDARD
TZOFFSETFROM:+0200
TZOFFSETTO:+0100
TZNAME:CET
DTSTART:20211031T010000
END:STANDARD
END:VTIMEZONE
BEGIN:VEVENT
DTSTART;TZID=Europe/Brussels:20211127T100000
DTEND;TZID=Europe/Brussels:20211127T120000
DTSTAMP:20260421T135327
CREATED:20211029T125716Z
LAST-MODIFIED:20211106T135847Z
UID:6192-1638007200-1638014400@www.socialekalender.be
SUMMARY:Repaircafé Hasselt
DESCRIPTION:In het repaircafé helpen we je met het herstellen van allerhande voorwerpen: kleding\, elektrische apparaten\, fietsen\, computers\,… De hulp is gratis en samen met de enthousiaste vrijwilligers steek je nog iets op ook! Ook wie niets heeft om te repareren is welkom en neemt een drankje aan de bar\, snuistert in de boeken van het boekenruilcafé of gaat kijken bij de reparatie van iemand anders. De afvalberg wordt kleiner en we werken aan een duurzame samenleving. Bovendien is het repaircafé ideaal om mensen te leren kennen.
URL:https://www.socialekalender.be/evenement/repaircafe-hasselt/
LOCATION:Vrijzinnig Punt en Boekhandel Grim
ATTACH;FMTTYPE=image/jpeg:https://www.socialekalender.be/wp-content/uploads/2021/07/repair-café-2.jpg
END:VEVENT
BEGIN:VEVENT
DTSTART;TZID=Europe/Brussels:20211127T100000
DTEND;TZID=Europe/Brussels:20211127T140000
DTSTAMP:20260421T135327
CREATED:20211110T094923Z
LAST-MODIFIED:20211110T094923Z
UID:6250-1638007200-1638021600@www.socialekalender.be
SUMMARY:Geefmarkt
DESCRIPTION:Op deze markt kan iedereen weggeven wat hij niet meer nodig heeft\, en meenemen wat hij kan gebruiken. Je hoeft niets mee te brengen om iets te kunnen meenemen. Wil je veel spullen afleveren\, graag een seintje vooraf. Alles wat op een fiets te vervoeren is\, is welkom: kledij\, speelgoed\, decoratie\, boeken\,… Het moet een gezellig ontmoetingsmoment worden: gratis soep\, koffie en koffiekoeken. Dit is een basisinitiatief vanuit vele verenigingen en burgers\, met steun van het stadsbestuur.
URL:https://www.socialekalender.be/evenement/geefmarkt/
LOCATION:Binnenplein Stadhuis Genk\, Stadsplein 1\, Genk\, 3600\, België
ATTACH;FMTTYPE=image/jpeg:https://www.socialekalender.be/wp-content/uploads/2021/11/Geefpleintje2017-tafel.jpg
END:VEVENT
BEGIN:VEVENT
DTSTART;TZID=Europe/Brussels:20211127T180000
DTEND;TZID=Europe/Brussels:20211127T180000
DTSTAMP:20260421T135327
CREATED:20211025T145649Z
LAST-MODIFIED:20211101T164335Z
UID:6149-1638036000-1638036000@www.socialekalender.be
SUMMARY:Palestina\, de laaste kolonie
DESCRIPTION:Avondvullende gespreksavond met standenmarkt en praatcafé over de problematiek in Palestina. Eerste spreker: Eitan Bronstein (foto)\, Israëlisch activist\, stichter van Zochrot. Hij emigreerde als kind naar Israël\, groeie op in een kibboets. Pas toen hij vader werd stopte hij met het zionisme. In december 2019 verhuisde hij van Tel Aviv naar Brussel. Tweede spreker: Willem Staes\, sinds 2016 beleidsmedewerker Midden-Oosten bij 11.11.11. Een inititaief van Oxfam Wereldwinkel Hasselt\, Pax Christi\, ABVV\, 11.11.11 en Palestina Solidariteit Limburg.
URL:https://www.socialekalender.be/evenement/palestina-de-laaste-kolonie/
LOCATION:UHasselt Campus Oude Gevangenis\, Martelarenlaan 42\, Hasselt\, 3500\, België
ATTACH;FMTTYPE=image/jpeg:https://www.socialekalender.be/wp-content/uploads/2021/10/Eitan-Bronstein.jpg
END:VEVENT
END:VCALENDAR