BEGIN:VCALENDAR
VERSION:2.0
PRODID:-//Sociale Kalender - ECPv6.2.9//NONSGML v1.0//EN
CALSCALE:GREGORIAN
METHOD:PUBLISH
X-ORIGINAL-URL:https://www.socialekalender.be
X-WR-CALDESC:Evenementen voor Sociale Kalender
REFRESH-INTERVAL;VALUE=DURATION:PT1H
X-Robots-Tag:noindex
X-PUBLISHED-TTL:PT1H
BEGIN:VTIMEZONE
TZID:Europe/Brussels
BEGIN:DAYLIGHT
TZOFFSETFROM:+0100
TZOFFSETTO:+0200
TZNAME:CEST
DTSTART:20210328T010000
END:DAYLIGHT
BEGIN:STANDARD
TZOFFSETFROM:+0200
TZOFFSETTO:+0100
TZNAME:CET
DTSTART:20211031T010000
END:STANDARD
END:VTIMEZONE
BEGIN:VEVENT
DTSTART;TZID=Europe/Brussels:20211130T193000
DTEND;TZID=Europe/Brussels:20211130T193000
DTSTAMP:20260421T074419
CREATED:20211109T145636Z
LAST-MODIFIED:20211109T145636Z
UID:6246-1638300600-1638300600@www.socialekalender.be
SUMMARY:Fake news en fact checks
DESCRIPTION:Regelmatig duiken mededelingen op met foutieve informatie\, zeker nu de berichtgeving zo vlot bereikbaar is van achter onze PC en binnen (digitaal) handbereik ligt. Het is belangrijk om kritisch te zijn voor berichtgeving\, maar hoe achterhaal je nu wat waar is en wat onzin? Dr. Ike Picone zal duidelijk maken waar je zelf op kan letten.
URL:https://www.socialekalender.be/evenement/fake-news-en-fact-checks/
LOCATION:Huis van de Mens Genk\, Grotestraat 10\, Genk\, 3600\, België
ATTACH;FMTTYPE=image/jpeg:https://www.socialekalender.be/wp-content/uploads/2021/11/Ike-Picone.jpg
ORGANIZER;CN="Huis van de Mens Genk":MAILTO:genk@demens.nu
END:VEVENT
BEGIN:VEVENT
DTSTART;TZID=Europe/Brussels:20211130T193000
DTEND;TZID=Europe/Brussels:20211130T210000
DTSTAMP:20260421T074419
CREATED:20211110T100743Z
LAST-MODIFIED:20211110T100743Z
UID:6268-1638300600-1638306000@www.socialekalender.be
SUMMARY:Erfgoedproject "beleving": hoe kan je zelf meewerken?
DESCRIPTION:Met het project BELEVING brengt het Limburgs Volkskundig Genootschap 100 levende gebruiken en tradities in Limburg in kaart en beeld. Het gaat over gewoonten en praktijken uit het leven van alledag\, van alle Limburgers\, jong en oud\, van hier en van ginds\, in dorpen en steden. We verzamelen\, beschrijven en/of filmen deze tradities en gebruiken en brengen ze in de belangstelling. Hiervoor zijn we op zoek naar enthousiaste vrijwilligers die door middel van interviews en foto’s van erfgoeddragers een duidelijk beeld kunnen schetsen van de tradities en gebruiken. Ben je geïnteresseerd? Kom dan naar deze infosessie. Meer info vind je op https://volkskunde-limburg.be/beleving. Wil je graag meer weten? Neem contact op met Pieter of Luk: beleving@volkskunde-limburg.be.
URL:https://www.socialekalender.be/evenement/erfgoedproject-beleving-hoe-kan-je-zelf-meewerken/
LOCATION:Avansa\, Ceeleboedersstraat 13-15\, Hasselt\, Limburg\, 3500\, België
ATTACH;FMTTYPE=image/jpeg:https://www.socialekalender.be/wp-content/uploads/2021/11/ossenboek.jpg
END:VEVENT
END:VCALENDAR