BEGIN:VCALENDAR
VERSION:2.0
PRODID:-//Sociale Kalender - ECPv6.2.9//NONSGML v1.0//EN
CALSCALE:GREGORIAN
METHOD:PUBLISH
X-ORIGINAL-URL:https://www.socialekalender.be
X-WR-CALDESC:Evenementen voor Sociale Kalender
REFRESH-INTERVAL;VALUE=DURATION:PT1H
X-Robots-Tag:noindex
X-PUBLISHED-TTL:PT1H
BEGIN:VTIMEZONE
TZID:Europe/Brussels
BEGIN:DAYLIGHT
TZOFFSETFROM:+0100
TZOFFSETTO:+0200
TZNAME:CEST
DTSTART:20210328T010000
END:DAYLIGHT
BEGIN:STANDARD
TZOFFSETFROM:+0200
TZOFFSETTO:+0100
TZNAME:CET
DTSTART:20211031T010000
END:STANDARD
END:VTIMEZONE
BEGIN:VEVENT
DTSTART;TZID=Europe/Brussels:20211201T091500
DTEND;TZID=Europe/Brussels:20211201T120000
DTSTAMP:20260421T074419
CREATED:20211126T165458Z
LAST-MODIFIED:20211126T165458Z
UID:6291-1638350100-1638360000@www.socialekalender.be
SUMMARY:Colloquium over Jaarboek Armoede
DESCRIPTION:De Universitaire Stichting voor Armoedebestrijding (USAB) is een vereniging van de Universiteit Antwerpen. Elk jaar geeft ze een Jaarboek Armoede en Sociale Uitsluiting uit\, dat wordt voorgesteld op een colloquium. Omwille van de verslechterde coronasituatie vindt dit nu volledig digitaal plaats. Meer informatie en inschrijven via www.uantwerpen.be/nl/projecten/usab.
URL:https://www.socialekalender.be/evenement/colloquium-over-jaarboek-armoede/
LOCATION:ONLINE
ATTACH;FMTTYPE=image/jpeg:https://www.socialekalender.be/wp-content/uploads/2021/11/jaarboek-armoede-1.jpg
END:VEVENT
END:VCALENDAR