BEGIN:VCALENDAR
VERSION:2.0
PRODID:-//Sociale Kalender - ECPv6.2.9//NONSGML v1.0//EN
CALSCALE:GREGORIAN
METHOD:PUBLISH
X-ORIGINAL-URL:https://www.socialekalender.be
X-WR-CALDESC:Evenementen voor Sociale Kalender
REFRESH-INTERVAL;VALUE=DURATION:PT1H
X-Robots-Tag:noindex
X-PUBLISHED-TTL:PT1H
BEGIN:VTIMEZONE
TZID:Europe/Brussels
BEGIN:DAYLIGHT
TZOFFSETFROM:+0100
TZOFFSETTO:+0200
TZNAME:CEST
DTSTART:20210328T010000
END:DAYLIGHT
BEGIN:STANDARD
TZOFFSETFROM:+0200
TZOFFSETTO:+0100
TZNAME:CET
DTSTART:20211031T010000
END:STANDARD
END:VTIMEZONE
BEGIN:VEVENT
DTSTART;TZID=Europe/Brussels:20211202T193000
DTEND;TZID=Europe/Brussels:20211202T193000
DTSTAMP:20260421T074419
CREATED:20210905T093623Z
LAST-MODIFIED:20210905T093623Z
UID:5947-1638473400-1638473400@www.socialekalender.be
SUMMARY:Van eugenetica tot transhumanisme
DESCRIPTION:Rond 1750 ontstaat de gedachte dat de mens in staat is tot onbeperkte vooruitgang. Niets mag deze vooruitgang in de weg staan. Al gauw maakt men onderscheid tussen ‘minderwaardigen’ en ‘meerderwaardigen’. Die eersten verhinderen de vooruitgang en moeten op een of andere manier uit de samenleving verwijderd worden. Zo ontstaat de eugenetica\, de techniek om de menselijke soort te verbeteren. Tot de tweede wereldoorlog wordt ze op grote schaal in gans de beschaafde wereld toegepast. Met veel leed tot gevolg. De gruwelijke praktijken van de nazi’s betekenen het einde van de eugenetica. Voor de verbetering van de soort moet nu genetica zorgen\, de verbetering van het erfelijk materiaal van de mens. Transhumanisten gaan nog een stap verder en dromen van de creatie van supermensen\, een nieuwe soort die op termijn de menselijke soort op alle gebieden zal overtreffen. Is het einde van de mens in zicht? Gaston Moens vertelt het verhaal van de mens die zijn eigen verhaal in handen neemt en daarna zichzelf kan verliezen.
URL:https://www.socialekalender.be/evenement/van-eugenetica-tot-transhumanisme/
LOCATION:Huis van de Mens Genk\, Grotestraat 10\, Genk\, 3600\, België
ATTACH;FMTTYPE=image/jpeg:https://www.socialekalender.be/wp-content/uploads/2021/09/transhumanisme2.jpg
ORGANIZER;CN="Huis van de Mens Genk":MAILTO:genk@demens.nu
END:VEVENT
END:VCALENDAR