BEGIN:VCALENDAR
VERSION:2.0
PRODID:-//Sociale Kalender - ECPv6.2.9//NONSGML v1.0//EN
CALSCALE:GREGORIAN
METHOD:PUBLISH
X-ORIGINAL-URL:https://www.socialekalender.be
X-WR-CALDESC:Evenementen voor Sociale Kalender
REFRESH-INTERVAL;VALUE=DURATION:PT1H
X-Robots-Tag:noindex
X-PUBLISHED-TTL:PT1H
BEGIN:VTIMEZONE
TZID:Europe/Brussels
BEGIN:DAYLIGHT
TZOFFSETFROM:+0100
TZOFFSETTO:+0200
TZNAME:CEST
DTSTART:20210328T010000
END:DAYLIGHT
BEGIN:STANDARD
TZOFFSETFROM:+0200
TZOFFSETTO:+0100
TZNAME:CET
DTSTART:20211031T010000
END:STANDARD
END:VTIMEZONE
BEGIN:VEVENT
DTSTART;TZID=Europe/Brussels:20211216T200000
DTEND;TZID=Europe/Brussels:20211216T200000
DTSTAMP:20260421T074418
CREATED:20211126T170134Z
LAST-MODIFIED:20211126T170134Z
UID:6298-1639684800-1639684800@www.socialekalender.be
SUMMARY:De verdwenen dorpen van Palestina
DESCRIPTION:Tijdens een rondreis door Israël en Palestina in oktober 2018 maakte Johan Depoortere\, voormalig journalist bij de VRT\, een fotoreeks over een tiental verdwenen Palestijnse dorpen. Over deze verdwijning is er nooit veel in de geschiedenisboeken gekomen. Johan Depoortere geeft toelichting over de geschiedenis van de verdwenen dorpen van Palestina en de huidige situatie van de Palestijnse bevolking. Dit betekent meteen ook de opening van zijn tentoonstelling\, die gratis te bezichtigen is tot 23 december.
URL:https://www.socialekalender.be/evenement/de-verdwenen-dorpen-van-palestina/
LOCATION:CC De Bogaard\, Capucienessenstraat 8\, Sint-Truiden\, 3800
ATTACH;FMTTYPE=image/jpeg:https://www.socialekalender.be/wp-content/uploads/2021/11/Johan-Depoortere-1.jpg
END:VEVENT
END:VCALENDAR