BEGIN:VCALENDAR
VERSION:2.0
PRODID:-//Sociale Kalender - ECPv6.2.9//NONSGML v1.0//EN
CALSCALE:GREGORIAN
METHOD:PUBLISH
X-WR-CALNAME:Sociale Kalender
X-ORIGINAL-URL:https://www.socialekalender.be
X-WR-CALDESC:Evenementen voor Sociale Kalender
REFRESH-INTERVAL;VALUE=DURATION:PT1H
X-Robots-Tag:noindex
X-PUBLISHED-TTL:PT1H
BEGIN:VTIMEZONE
TZID:Europe/Brussels
BEGIN:DAYLIGHT
TZOFFSETFROM:+0100
TZOFFSETTO:+0200
TZNAME:CEST
DTSTART:20210328T010000
END:DAYLIGHT
BEGIN:STANDARD
TZOFFSETFROM:+0200
TZOFFSETTO:+0100
TZNAME:CET
DTSTART:20211031T010000
END:STANDARD
END:VTIMEZONE
BEGIN:VEVENT
DTSTART;TZID=Europe/Brussels:20211217T190000
DTEND;TZID=Europe/Brussels:20211217T210000
DTSTAMP:20260421T074425
CREATED:20211203T092023Z
LAST-MODIFIED:20211203T092023Z
UID:6332-1639767600-1639774800@www.socialekalender.be
SUMMARY:Opvoeden in meertaligheid
DESCRIPTION:Opvoeden in meertaligheid geeft extra cognitieve stimulansen aan kinderen. Daarom nodigt de Limburgse Integratieraad prof. Rik Vosters uit voor een lezing met als titel “handvaten voor een inclusief meertalenbeleid”. Rik Vosters\, afkomstig van Maaseik\, is hoofddocent sociolinguïstiek en Nederlandse taalkunde (VUBrussel)\, en is geïnteresseerd in het beleid rond minderheidstalen. Na zijn uiteenzetting is er een panelgesprek over taalbeleid in verschillende sectoren. De panelleden zijn: Rik Vosters (VUB)\, Christos Pistolas (Sprankel & methodeschool Jenaplan in Houthalen)\, Katrien Strick (Basiseducatie) en Sigrid Smets (Familiehulp). Moderator: Maryam Jamshid.
URL:https://www.socialekalender.be/evenement/opvoeden-in-meertaligheid/
LOCATION:ONLINE
ATTACH;FMTTYPE=image/jpeg:https://www.socialekalender.be/wp-content/uploads/2021/12/Rik-Vosters.jpeg
END:VEVENT
END:VCALENDAR