BEGIN:VCALENDAR
VERSION:2.0
PRODID:-//Sociale Kalender - ECPv6.2.9//NONSGML v1.0//EN
CALSCALE:GREGORIAN
METHOD:PUBLISH
X-ORIGINAL-URL:https://www.socialekalender.be
X-WR-CALDESC:Evenementen voor Sociale Kalender
REFRESH-INTERVAL;VALUE=DURATION:PT1H
X-Robots-Tag:noindex
X-PUBLISHED-TTL:PT1H
BEGIN:VTIMEZONE
TZID:Europe/Brussels
BEGIN:DAYLIGHT
TZOFFSETFROM:+0100
TZOFFSETTO:+0200
TZNAME:CEST
DTSTART:20210328T010000
END:DAYLIGHT
BEGIN:STANDARD
TZOFFSETFROM:+0200
TZOFFSETTO:+0100
TZNAME:CET
DTSTART:20211031T010000
END:STANDARD
END:VTIMEZONE
BEGIN:VEVENT
DTSTART;TZID=Europe/Brussels:20211218T093000
DTEND;TZID=Europe/Brussels:20211218T130000
DTSTAMP:20260421T074418
CREATED:20211114T101940Z
LAST-MODIFIED:20211215T074210Z
UID:6278-1639819800-1639832400@www.socialekalender.be
SUMMARY:Limburgs netwerkmoment internationale solidariteit (uitgesteld)
DESCRIPTION:De bedoeling is om een ontmoetingsmoment te creëren voor alle geïnteresseerden in internationale solidariteit: vrijwilligers en/of professionele krachten uit ngo’s\, vierdepijlerorganisaties\, gemeentebesturen\, … Na een welkomstwoord brengt Els Hertogen\, directeur van 11.11.11\, een key-notespeech. Om 11u: verdeling over dialoogtafels. Om 12u: receptie om te netwerken. Gelieve niet te vergeten om je in te schrijven.
URL:https://www.socialekalender.be/evenement/limburgs-netwerkmoment-internationale-solidariteit/
LOCATION:STADHUISPLEIN\, Stadsplein 1\, Genk\, limburg\, 3600\, België
ATTACH;FMTTYPE=image/jpeg:https://www.socialekalender.be/wp-content/uploads/2021/10/Els-Hertogen-2.jpg
END:VEVENT
BEGIN:VEVENT
DTSTART;TZID=Europe/Brussels:20211218T150000
DTEND;TZID=Europe/Brussels:20211218T160000
DTSTAMP:20260421T074418
CREATED:20210913T082126Z
LAST-MODIFIED:20211114T101110Z
UID:5973-1639839600-1639843200@www.socialekalender.be
SUMMARY:Kringlopen voor een leefbare wereld
DESCRIPTION:Even voor de zomer van 2020 ging er in Hasselt een nieuwe burgerbeweging van start\, De Ring. Zij brengt mensen samen om te bouwen aan een warme samenleving met een duurzame levensstijl. Ook blijft ze de urgentie van een ingrijpend klimaatbeleid op de agenda zetten. Het was de bedoeling van De Ring om elke zaterdag een wandeling te maken over het voetpad langs de Groene Boulevard in Hasselt (kringlopen)\, om zo een band te scheppen tussen de deelnemers. Door de coronacrisis werden deze plannen voorlopig opgeborgen. Maar aan het begin van elk nieuw seizoen wordt wel opgeroepen om op pad te gaan. De initiatiefnemers vinden direct menselijk contact een communicatieve meerwaarde in tijden van digitalisering. Het is telkens een kleurrijke optocht\, en iedereen wordt aangemoedigd om spandoeken en borden mee te brengen.
URL:https://www.socialekalender.be/evenement/kringlopen-voor-een-leefbare-wereld-6/
LOCATION:Kolonel Dusartplein\, Kolonel Dusartplein\, Hasselt\, 3500
ATTACH;FMTTYPE=image/jpeg:https://www.socialekalender.be/wp-content/uploads/2021/09/kringlopen-26.12.2-1-scaled.jpg
END:VEVENT
END:VCALENDAR