BEGIN:VCALENDAR
VERSION:2.0
PRODID:-//Sociale Kalender - ECPv6.2.9//NONSGML v1.0//EN
CALSCALE:GREGORIAN
METHOD:PUBLISH
X-WR-CALNAME:Sociale Kalender
X-ORIGINAL-URL:https://www.socialekalender.be
X-WR-CALDESC:Evenementen voor Sociale Kalender
REFRESH-INTERVAL;VALUE=DURATION:PT1H
X-Robots-Tag:noindex
X-PUBLISHED-TTL:PT1H
BEGIN:VTIMEZONE
TZID:Europe/Brussels
BEGIN:DAYLIGHT
TZOFFSETFROM:+0100
TZOFFSETTO:+0200
TZNAME:CEST
DTSTART:20210328T010000
END:DAYLIGHT
BEGIN:STANDARD
TZOFFSETFROM:+0200
TZOFFSETTO:+0100
TZNAME:CET
DTSTART:20211031T010000
END:STANDARD
END:VTIMEZONE
BEGIN:VEVENT
DTSTART;TZID=Europe/Brussels:20211231T100000
DTEND;TZID=Europe/Brussels:20211231T190000
DTSTAMP:20260421T074423
CREATED:20211208T150513Z
LAST-MODIFIED:20211208T150513Z
UID:6350-1640944800-1640977200@www.socialekalender.be
SUMMARY:Zorg en samenleving in heden en verleden
DESCRIPTION:De reizende tentoonstelling “Vele handen. Zorg en samenleving in heden en verleden” is de hele maand december te zien in Beringen. Ze wil enkele punten in het zorgdebat kritisch belichten. In welke mate kan iedereen er een beroep op doen? Moeten we eerst zelf voorzien in onze zorg? Deze vragen zijn allesbehalve nieuw en de tentoonstelling gaat op zoek naar gelijkenissen en verschillen tussen vroeger en nu. De expo is gratis te bezoeken op maandag van 13 tot 19u\, op dinsdag en donderdag van 10 tot 17u\, op woensdag en vrijdag van 10 tot 19u en op zaterdag van 10 tot 13u. Zij vloeide voort uit een onderzoeksproject van Kadoc (Documentatiecentrum voor Religie\, Cultuur en Samenleving van de KUL) in opdracht van het Steunpunt Welzijn\, Volksgezondheid en Gezin. Je vindt bijkomende info in een expoboekje\, dat gratis online beschikbaar is.
URL:https://www.socialekalender.be/evenement/zorg-en-samenleving-in-heden-en-verleden/
LOCATION:BIB\, Graaf van Loonstraat 2\, Beringen\, Limburg\, België
ATTACH;FMTTYPE=image/jpeg:https://www.socialekalender.be/wp-content/uploads/2021/12/zorg-vele-handen.jpg
END:VEVENT
END:VCALENDAR