BEGIN:VCALENDAR
VERSION:2.0
PRODID:-//Sociale Kalender - ECPv6.2.9//NONSGML v1.0//EN
CALSCALE:GREGORIAN
METHOD:PUBLISH
X-WR-CALNAME:Sociale Kalender
X-ORIGINAL-URL:https://www.socialekalender.be
X-WR-CALDESC:Evenementen voor Sociale Kalender
REFRESH-INTERVAL;VALUE=DURATION:PT1H
X-Robots-Tag:noindex
X-PUBLISHED-TTL:PT1H
BEGIN:VTIMEZONE
TZID:Europe/Brussels
BEGIN:DAYLIGHT
TZOFFSETFROM:+0100
TZOFFSETTO:+0200
TZNAME:CEST
DTSTART:20220327T010000
END:DAYLIGHT
BEGIN:STANDARD
TZOFFSETFROM:+0200
TZOFFSETTO:+0100
TZNAME:CET
DTSTART:20221030T010000
END:STANDARD
END:VTIMEZONE
BEGIN:VEVENT
DTSTART;TZID=Europe/Brussels:20220114T090000
DTEND;TZID=Europe/Brussels:20220114T090000
DTSTAMP:20260421T060106
CREATED:20211223T145927Z
LAST-MODIFIED:20211223T145927Z
UID:6399-1642150800-1642150800@www.socialekalender.be
SUMMARY:Christelijke thuismeditatie
DESCRIPTION:Tijdens een Oasedag biedt het Gentse Clemenspoort vier onlinemeditatiemomenten aan\, om 9\, 11\, 15 en 17 uur\, telkens voorzien van een korte inleiding. Na het vierde meditatiemoment is er ruimte voor een nagesprek. Deelnemers kunnen één of meerdere keren mee mediteren\, maar tussendoor kunnen ze de dag ook een bijzonder accent geven door de stilte te bewaren in huis\, te lezen of te wandelen. Ook mensen zonder ervaring met meditatie zijn welkom. Deelnemers mogen een vrije bijdrage storten.
URL:https://www.socialekalender.be/evenement/christelijke-thuismeditatie/
LOCATION:ONLINE
ATTACH;FMTTYPE=image/png:https://www.socialekalender.be/wp-content/uploads/2021/12/clemenspoort.png
END:VEVENT
END:VCALENDAR