BEGIN:VCALENDAR
VERSION:2.0
PRODID:-//Sociale Kalender - ECPv6.2.9//NONSGML v1.0//EN
CALSCALE:GREGORIAN
METHOD:PUBLISH
X-ORIGINAL-URL:https://www.socialekalender.be
X-WR-CALDESC:Evenementen voor Sociale Kalender
REFRESH-INTERVAL;VALUE=DURATION:PT1H
X-Robots-Tag:noindex
X-PUBLISHED-TTL:PT1H
BEGIN:VTIMEZONE
TZID:Europe/Brussels
BEGIN:DAYLIGHT
TZOFFSETFROM:+0100
TZOFFSETTO:+0200
TZNAME:CEST
DTSTART:20220327T010000
END:DAYLIGHT
BEGIN:STANDARD
TZOFFSETFROM:+0200
TZOFFSETTO:+0100
TZNAME:CET
DTSTART:20221030T010000
END:STANDARD
END:VTIMEZONE
BEGIN:VEVENT
DTSTART;TZID=Europe/Brussels:20220120T193000
DTEND;TZID=Europe/Brussels:20220120T210000
DTSTAMP:20260421T074422
CREATED:20211229T160244Z
LAST-MODIFIED:20211229T160244Z
UID:6499-1642707000-1642712400@www.socialekalender.be
SUMMARY:De uitdaging van een donuteconomie: de overheid
DESCRIPTION:Derde van drie webinars waarin er vanuit het donutmodel gekeken wordt naar de rollen van de markt\, de gemeenschapseconomie en de overheid. Wat zouden de contouren zijn van een toekomstgericht overheidsingrijpen in de economie? Martha Claeys (filosofe UAntwerpen) modereert een panelgesprek met Lies Corneille (Stad Leuven)\, Nick Meynen (schrijver en activist) en Luc Van Liedekerke (professor in de bedrijfsethiek\, UAntwerpen)
URL:https://www.socialekalender.be/evenement/de-uitdaging-van-een-donuteconomie-de-overheid/
LOCATION:ONLINE
ATTACH;FMTTYPE=image/jpeg:https://www.socialekalender.be/wp-content/uploads/2021/12/donuteconomie-1.jpg
END:VEVENT
END:VCALENDAR