BEGIN:VCALENDAR
VERSION:2.0
PRODID:-//Sociale Kalender - ECPv6.2.9//NONSGML v1.0//EN
CALSCALE:GREGORIAN
METHOD:PUBLISH
X-WR-CALNAME:Sociale Kalender
X-ORIGINAL-URL:https://www.socialekalender.be
X-WR-CALDESC:Evenementen voor Sociale Kalender
REFRESH-INTERVAL;VALUE=DURATION:PT1H
X-Robots-Tag:noindex
X-PUBLISHED-TTL:PT1H
BEGIN:VTIMEZONE
TZID:Europe/Brussels
BEGIN:DAYLIGHT
TZOFFSETFROM:+0100
TZOFFSETTO:+0200
TZNAME:CEST
DTSTART:20220327T010000
END:DAYLIGHT
BEGIN:STANDARD
TZOFFSETFROM:+0200
TZOFFSETTO:+0100
TZNAME:CET
DTSTART:20221030T010000
END:STANDARD
END:VTIMEZONE
BEGIN:VEVENT
DTSTART;TZID=Europe/Brussels:20220127T140000
DTEND;TZID=Europe/Brussels:20220127T153000
DTSTAMP:20260421T060106
CREATED:20220106T150636Z
LAST-MODIFIED:20220108T132540Z
UID:6520-1643292000-1643297400@www.socialekalender.be
SUMMARY:Poëziewandeling in het Hasselts dialect
DESCRIPTION:Op Gedichtendag\, donderdag 27 januari 2022\, start de tiende editie van de Poëzieweek. Naar aanleiding hiervan organiseert Bibliotheek Hasselt Limburg een poëziewandeling in het Hasselts dialect. Stadsgids Francis De Lauré neemt je mee langs mooie plekjes in de binnenstad. Onderweg ontdek je 5 gedichten van bekende Nederlandstalige dichters\, die Francis voordraagt in het Hessels. Op donderdag 27 januari om 14u\, start aan Bibliotheek Hasselt Limburg\, Martelarenlaan 17. Zelfde programma wordt herhaald op zaterdag 29 januari. Deelname is gratis\, vooraf inschrijven verplicht. Dat kan via www.bibliotheek.hasselt.be/poeziewandeling
URL:https://www.socialekalender.be/evenement/poeziewandeling-in-het-hasselts-dialect/
LOCATION:Bibliotheek Hasselt\, Martelarenlaan 17\, Hasselt\, Limburg\, 3500\, België
ATTACH;FMTTYPE=image/jpeg:https://www.socialekalender.be/wp-content/uploads/2022/01/poeziewandeling.jpg
END:VEVENT
END:VCALENDAR