BEGIN:VCALENDAR
VERSION:2.0
PRODID:-//Sociale Kalender - ECPv6.2.9//NONSGML v1.0//EN
CALSCALE:GREGORIAN
METHOD:PUBLISH
X-WR-CALNAME:Sociale Kalender
X-ORIGINAL-URL:https://www.socialekalender.be
X-WR-CALDESC:Evenementen voor Sociale Kalender
REFRESH-INTERVAL;VALUE=DURATION:PT1H
X-Robots-Tag:noindex
X-PUBLISHED-TTL:PT1H
BEGIN:VTIMEZONE
TZID:Europe/Brussels
BEGIN:DAYLIGHT
TZOFFSETFROM:+0100
TZOFFSETTO:+0200
TZNAME:CEST
DTSTART:20220327T010000
END:DAYLIGHT
BEGIN:STANDARD
TZOFFSETFROM:+0200
TZOFFSETTO:+0100
TZNAME:CET
DTSTART:20221030T010000
END:STANDARD
END:VTIMEZONE
BEGIN:VEVENT
DTSTART;TZID=Europe/Brussels:20220205T090000
DTEND;TZID=Europe/Brussels:20220205T120000
DTSTAMP:20260421T025852
CREATED:20211129T105226Z
LAST-MODIFIED:20211129T105226Z
UID:6318-1644051600-1644062400@www.socialekalender.be
SUMMARY:Start cursus natuurgids in Bokrijk
DESCRIPTION:Limburg heeft al een traditie van meer dan 50 jaar met het inrichten van de cursus natuurgids. Die bestaat uit 30 activiteiten\, waarvan ongeveer de helft natuurexcursies zijn. De activiteiten worden gespreid over een jaar zodat je de natuur in ieder seizoen leert kennen; de laatste activiteit is gepland voor 17 december. Zowel de theorie- als de praktijklessen vinden plaats op zaterdagvoormiddagen\, maar er zijn wel twee daguitstappen. Tijdens de schoolvakanties zijn er meestal geen lessen of excursies. Na je eindopdracht ontvang je het getuigschrift van Natuurgids. Met dit getuigschrift kan je later een gidsenbadge van Natuurpunt CVN behalen\, na het aantonen van praktijkervaring en gespecialiseerde didactische of inhoudelijke bijscholing. Meer informatie hierover ontvang je tijdens de cursus. De cursus Natuurgids is intensief en vereist een zeker niveau van engagement\, maar je wordt beloond met een verrijkende nieuwe hobby en kennis voor het leven. Leden van Natuurpunt krijgen korting en betalen slechts € 270 in plaats van € 315 (lidkaart kost € 30). Ben je 25 jaar of jonger\, dan krijg je nog extra korting. De inschrijvingen worden afgesloten bij 15 deelnemers. Meer informatie via de agenda van www.natuurpunt.be.
URL:https://www.socialekalender.be/evenement/start-cursus-natuurgids-in-bokrijk/
LOCATION:Provinciaal Natuurcentrum\, Craenevenne 86\, Genk (Bokrijk)\, Limburg\, 3600\, België
ATTACH;FMTTYPE=image/jpeg:https://www.socialekalender.be/wp-content/uploads/2021/11/natuur-ophovenderheide-1.jpg
END:VEVENT
BEGIN:VEVENT
DTSTART;TZID=Europe/Brussels:20220205T100000
DTEND;TZID=Europe/Brussels:20220205T160000
DTSTAMP:20260421T025852
CREATED:20211229T153839Z
LAST-MODIFIED:20211229T154131Z
UID:6482-1644055200-1644076800@www.socialekalender.be
SUMMARY:Merwt\, de Hasseltse boerenmarkt
DESCRIPTION:Sinds kort is deze markt met boeren\, producenten en cateraars uit de buurt weer van start gegaan. Je vindt er proevertjes (eten en drinken)\, maar je kan er ook ontbijten en lunchen. Natuurlijk vind je er voorts een brede keuze voor je inkopen\, volgens het principe LEF: lokaal\, ecologisch en fair. Vanaf 5 februari weer elke eerste zaterdag van de maand.
URL:https://www.socialekalender.be/evenement/merwt-de-hasseltse-boerenmarkt/
LOCATION:Molenpoortplein\, Hasselt\, limburg\, 3500\, België
ATTACH;FMTTYPE=image/jpeg:https://www.socialekalender.be/wp-content/uploads/2021/12/merwt1.jpg
END:VEVENT
END:VCALENDAR