BEGIN:VCALENDAR
VERSION:2.0
PRODID:-//Sociale Kalender - ECPv6.2.9//NONSGML v1.0//EN
CALSCALE:GREGORIAN
METHOD:PUBLISH
X-ORIGINAL-URL:https://www.socialekalender.be
X-WR-CALDESC:Evenementen voor Sociale Kalender
REFRESH-INTERVAL;VALUE=DURATION:PT1H
X-Robots-Tag:noindex
X-PUBLISHED-TTL:PT1H
BEGIN:VTIMEZONE
TZID:Europe/Brussels
BEGIN:DAYLIGHT
TZOFFSETFROM:+0100
TZOFFSETTO:+0200
TZNAME:CEST
DTSTART:20220327T010000
END:DAYLIGHT
BEGIN:STANDARD
TZOFFSETFROM:+0200
TZOFFSETTO:+0100
TZNAME:CET
DTSTART:20221030T010000
END:STANDARD
END:VTIMEZONE
BEGIN:VEVENT
DTSTART;TZID=Europe/Brussels:20220210T193000
DTEND;TZID=Europe/Brussels:20220210T220000
DTSTAMP:20260421T025850
CREATED:20220116T135220Z
LAST-MODIFIED:20220116T135220Z
UID:6543-1644521400-1644530400@www.socialekalender.be
SUMMARY:Mijn levensbeschouwing als inspiratie
DESCRIPTION:Enkele mensen uit verschillende hoeken gaan in gesprek over hun levensbeschouwing. Zijn levensbeschouwingen nog een bron van inspiratie? Bieden ze nog een houvast in onzekere tijden? Zijn ze nog een bron van zingeving? Over deze en andere vragen gaan een vrijzinnige humanist\, een katholiek\, een Grieks-orthodoxe christen en een moslim in gesprek. Ze vertellen hoe hun levensbeschouwing hen geïnspireerd heeft. Jonas Slaats leidt alles in goede banen.
URL:https://www.socialekalender.be/evenement/mijn-levensbeschouwing-als-inspiratie-2/
LOCATION:CC Maasmechelen\, Koninginnelaan 42\, Maasmechelen\, 3630\, België
ATTACH;FMTTYPE=image/jpeg:https://www.socialekalender.be/wp-content/uploads/2022/01/levensbeschouwingen1.jpg
END:VEVENT
END:VCALENDAR