BEGIN:VCALENDAR
VERSION:2.0
PRODID:-//Sociale Kalender - ECPv6.2.9//NONSGML v1.0//EN
CALSCALE:GREGORIAN
METHOD:PUBLISH
X-WR-CALNAME:Sociale Kalender
X-ORIGINAL-URL:https://www.socialekalender.be
X-WR-CALDESC:Evenementen voor Sociale Kalender
REFRESH-INTERVAL;VALUE=DURATION:PT1H
X-Robots-Tag:noindex
X-PUBLISHED-TTL:PT1H
BEGIN:VTIMEZONE
TZID:Europe/Brussels
BEGIN:DAYLIGHT
TZOFFSETFROM:+0100
TZOFFSETTO:+0200
TZNAME:CEST
DTSTART:20220327T010000
END:DAYLIGHT
BEGIN:STANDARD
TZOFFSETFROM:+0200
TZOFFSETTO:+0100
TZNAME:CET
DTSTART:20221030T010000
END:STANDARD
END:VTIMEZONE
BEGIN:VEVENT
DTSTART;TZID=Europe/Brussels:20220219T150000
DTEND;TZID=Europe/Brussels:20220219T150000
DTSTAMP:20260421T025852
CREATED:20220202T101704Z
LAST-MODIFIED:20220205T101814Z
UID:6599-1645282800-1645282800@www.socialekalender.be
SUMMARY:Denknamiddag over burgerbeweging De Ring
DESCRIPTION:Even voor de zomer van 2020 ging er in Hasselt een nieuwe burgerbeweging van start\, De Ring. Zij brengt mensen samen om te bouwen aan een warme samenleving met een duurzame levensstijl. Ook blijft ze de urgentie van een ingrijpend klimaatbeleid op de agenda zetten. Aan het begin van elk nieuw seizoen organiseert ze op een zaterdag een wandeling over het voetpad langs de Groene Boulevard in Hasselt (kringlopen)\, om zo een band te scheppen tussen de deelnemers. De initiatiefnemers vinden direct menselijk contact een communicatieve meerwaarde in tijden van digitalisering. Op 17 februari willen de mensen van De Ring iedereen uitnodigen die zich betrokken voelt bij de waarden van dit burgerinitiatief. Op deze denknamiddag wordt er ook nagedacht over de oprichting van een burgerraad (in functie van basisdemocratie) en een breder activiteitenprogramma.
URL:https://www.socialekalender.be/evenement/denkavond-over-burgerbeweging-de-ring/
LOCATION:Avansa\, Ceeleboedersstraat 13-15\, Hasselt\, Limburg\, 3500\, België
ATTACH;FMTTYPE=image/jpeg:https://www.socialekalender.be/wp-content/uploads/2022/02/kringlopen-26.12.2-scaled.jpg
END:VEVENT
END:VCALENDAR