BEGIN:VCALENDAR
VERSION:2.0
PRODID:-//Sociale Kalender - ECPv6.2.9//NONSGML v1.0//EN
CALSCALE:GREGORIAN
METHOD:PUBLISH
X-WR-CALNAME:Sociale Kalender
X-ORIGINAL-URL:https://www.socialekalender.be
X-WR-CALDESC:Evenementen voor Sociale Kalender
REFRESH-INTERVAL;VALUE=DURATION:PT1H
X-Robots-Tag:noindex
X-PUBLISHED-TTL:PT1H
BEGIN:VTIMEZONE
TZID:Europe/Brussels
BEGIN:DAYLIGHT
TZOFFSETFROM:+0100
TZOFFSETTO:+0200
TZNAME:CEST
DTSTART:20220327T010000
END:DAYLIGHT
BEGIN:STANDARD
TZOFFSETFROM:+0200
TZOFFSETTO:+0100
TZNAME:CET
DTSTART:20221030T010000
END:STANDARD
END:VTIMEZONE
BEGIN:VEVENT
DTSTART;TZID=Europe/Brussels:20220220T100000
DTEND;TZID=Europe/Brussels:20220220T170000
DTSTAMP:20260421T025852
CREATED:20220209T154804Z
LAST-MODIFIED:20220209T154804Z
UID:6656-1645351200-1645376400@www.socialekalender.be
SUMMARY:Reflexions (kunstexpo)
DESCRIPTION:Deze be-levende expo van kunstcollectief B.R.O.N. legt de nadruk op verbinding\, verwondering\, … De bezoekers worden aangemoedigd om zich samen met de kunstenaars te laten onderdompelen in kunstige beelden\, verrassende vertellingen\, herboren sculpturen\, levende muziek\, sprekende foto’s\, onverwachte proeverijen en boeiende ontmoetingen. De tentoonstelling loopt over zes maanden met elke maand een nieuw gegeven.
URL:https://www.socialekalender.be/evenement/reflexions-kunstexpo/
LOCATION:Triamant\, Meeuwerkiezel 88\, Bree\, Limburg\, 3960\, België
ATTACH;FMTTYPE=image/jpeg:https://www.socialekalender.be/wp-content/uploads/2022/02/bronkunstcollectief-1.jpg
END:VEVENT
END:VCALENDAR