BEGIN:VCALENDAR
VERSION:2.0
PRODID:-//Sociale Kalender - ECPv6.2.9//NONSGML v1.0//EN
CALSCALE:GREGORIAN
METHOD:PUBLISH
X-WR-CALNAME:Sociale Kalender
X-ORIGINAL-URL:https://www.socialekalender.be
X-WR-CALDESC:Evenementen voor Sociale Kalender
REFRESH-INTERVAL;VALUE=DURATION:PT1H
X-Robots-Tag:noindex
X-PUBLISHED-TTL:PT1H
BEGIN:VTIMEZONE
TZID:Europe/Brussels
BEGIN:DAYLIGHT
TZOFFSETFROM:+0100
TZOFFSETTO:+0200
TZNAME:CEST
DTSTART:20220327T010000
END:DAYLIGHT
BEGIN:STANDARD
TZOFFSETFROM:+0200
TZOFFSETTO:+0100
TZNAME:CET
DTSTART:20221030T010000
END:STANDARD
END:VTIMEZONE
BEGIN:VEVENT
DTSTART;TZID=Europe/Brussels:20220221T110000
DTEND;TZID=Europe/Brussels:20220221T110000
DTSTAMP:20260421T074423
CREATED:20220106T151925Z
LAST-MODIFIED:20220106T151925Z
UID:6532-1645441200-1645441200@www.socialekalender.be
SUMMARY:Buitenlandse inspiratie voor De Lijn
DESCRIPTION:Webinar met Stefan Stynen\, de voorzitter van TreinTramBus. Hij licht ons openbaar vervoer toe via vergelijkingen en voorbeelden uit het buitenland.
URL:https://www.socialekalender.be/evenement/buitenlandse-inspiratie-voor-de-lijn/
LOCATION:ONLINE
ATTACH;FMTTYPE=image/jpeg:https://www.socialekalender.be/wp-content/uploads/2022/01/De_Lijn.jpg
END:VEVENT
BEGIN:VEVENT
DTSTART;TZID=Europe/Brussels:20220221T193000
DTEND;TZID=Europe/Brussels:20220221T213000
DTSTAMP:20260421T074423
CREATED:20220211T142039Z
LAST-MODIFIED:20220211T142039Z
UID:6665-1645471800-1645479000@www.socialekalender.be
SUMMARY:Interlevensbeschouwelijke quiz
DESCRIPTION:De Werkgroep Interlevensbeschouwelijke Dialoog Limburg en Avansa organiseren een quiz over de verschillende levensbeschouwingen. De nadruk ligt niet op de wedstrijd\, maar op de leergierigheid en dialoog. De quiz gaat zowel online als fysiek door. Onlinedeelnemers ontvangen per mail een Zoomlink\, anderen worden om 19.15u bij Avansa verwacht.
URL:https://www.socialekalender.be/evenement/interlevensbeschouwelijke-quiz-2/
LOCATION:Avansa\, Ceeleboedersstraat 13-15\, Hasselt\, Limburg\, 3500\, België
ATTACH;FMTTYPE=image/jpeg:https://www.socialekalender.be/wp-content/uploads/2020/08/kunst-boeddha.jpg
END:VEVENT
END:VCALENDAR