BEGIN:VCALENDAR
VERSION:2.0
PRODID:-//Sociale Kalender - ECPv6.2.9//NONSGML v1.0//EN
CALSCALE:GREGORIAN
METHOD:PUBLISH
X-ORIGINAL-URL:https://www.socialekalender.be
X-WR-CALDESC:Evenementen voor Sociale Kalender
REFRESH-INTERVAL;VALUE=DURATION:PT1H
X-Robots-Tag:noindex
X-PUBLISHED-TTL:PT1H
BEGIN:VTIMEZONE
TZID:Europe/Brussels
BEGIN:DAYLIGHT
TZOFFSETFROM:+0100
TZOFFSETTO:+0200
TZNAME:CEST
DTSTART:20220327T010000
END:DAYLIGHT
BEGIN:STANDARD
TZOFFSETFROM:+0200
TZOFFSETTO:+0100
TZNAME:CET
DTSTART:20221030T010000
END:STANDARD
END:VTIMEZONE
BEGIN:VEVENT
DTSTART;TZID=Europe/Brussels:20220223T193000
DTEND;TZID=Europe/Brussels:20220223T193000
DTSTAMP:20260421T025850
CREATED:20220131T142154Z
LAST-MODIFIED:20220131T142154Z
UID:6595-1645644600-1645644600@www.socialekalender.be
SUMMARY:Verborgen dimensies van armoede (webinar)
DESCRIPTION:“Willen we armoede echt aanpakken\, dan moet er ook aandacht zijn voor wat verborgen blijft”. ATD Vierde Wereld licht de nieuwe inzichten uit een internationaal participatief onderzoek naar de verborgen dimensies van armoede toe. Armoede gaat immers over meer dan onbetaalde rekeningen en geldtekort.
URL:https://www.socialekalender.be/evenement/verborgen-dimensies-van-armoede-webinar/
LOCATION:ONLINE
ATTACH;FMTTYPE=image/jpeg:https://www.socialekalender.be/wp-content/uploads/2022/01/armoede-2.jpg
ORGANIZER;CN="Beweging.net":MAILTO:bart.bynens@beweging.net
END:VEVENT
END:VCALENDAR