BEGIN:VCALENDAR
VERSION:2.0
PRODID:-//Sociale Kalender - ECPv6.2.9//NONSGML v1.0//EN
CALSCALE:GREGORIAN
METHOD:PUBLISH
X-WR-CALNAME:Sociale Kalender
X-ORIGINAL-URL:https://www.socialekalender.be
X-WR-CALDESC:Evenementen voor Sociale Kalender
REFRESH-INTERVAL;VALUE=DURATION:PT1H
X-Robots-Tag:noindex
X-PUBLISHED-TTL:PT1H
BEGIN:VTIMEZONE
TZID:Europe/Brussels
BEGIN:DAYLIGHT
TZOFFSETFROM:+0100
TZOFFSETTO:+0200
TZNAME:CEST
DTSTART:20220327T010000
END:DAYLIGHT
BEGIN:STANDARD
TZOFFSETFROM:+0200
TZOFFSETTO:+0100
TZNAME:CET
DTSTART:20221030T010000
END:STANDARD
END:VTIMEZONE
BEGIN:VEVENT
DTSTART;TZID=Europe/Brussels:20220224T190000
DTEND;TZID=Europe/Brussels:20220224T210000
DTSTAMP:20260421T025852
CREATED:20220214T153736Z
LAST-MODIFIED:20220214T153736Z
UID:6670-1645729200-1645736400@www.socialekalender.be
SUMMARY:Over bruggen en grenzen (webinar)
DESCRIPTION:De huidige samenleving verandert continu en daarbinnen ook de superdiversiteit. Superdiversiteit laat ons voorbij culturele stereotypen of een generatiekloof kijken.  Nochtans geeft 1 op de 5 Vlamingen aan zichzelf niet te kunnen zijn.  Ze kunnen dat niet door hoe ze eruit zien\, wie ze graag zien\, omdat ze minder kansen krijgen in het leven\,….  Met andere woorden\, ze voelen weinig erkenning en herkenning voor de verschillende dimensies en elementen van hun identiteit zoals bijvoorbeeld gender\, handicap\, seksuele voorkeur\, klasse\, religie\,…   Identiteit lijkt immers op een stukje taart\, waarvan elk stukje wat vertelt over wie jij bent\, jouw identiteit. Identiteitsontwikkeling is een permanente zoektocht zonder eindpunt. Het is iets essentieels en het vormt de kern van je ‘zijn’. Het bepaalt je overtuigingen\, waarden en normen en dit bepaalt dan weer hoe je het samenleven waarneemt\, interpreteert en hoe je je daarbinnen gaat gedragen. Maar ook anderen creëren een beeld over deze omgeving waarin ze de mensen om zich heen eigenschappen en deelidentiteiten toekennen. Net daarom is het belangrijk om aandacht te hebben voor dit dynamisch proces\, zowel bij jezelf als bij anderen. Zeker ook omdat identiteit een impact heeft op je welbevinden. Uitspraken als ‘Je goed in je vel voelen’ of ‘Het gevoel jezelf kunnen zijn’\, wijzen op een constant verlangen om erkend te worden omwille van de persoon die je bent. De lokale besturen van As\, Genk\, Houthalen-Helchteren en Zutendaal organiseren een reeks inspiratiesessies rond de verschillende dimensies en elementen van identiteit. In dit webinar zal imam Khalid Benhaddou handvatten aanreiken rond uitdagingen die samenhangen met etnisch-culturele en religieuze identiteit. Hij benadrukt dat positieve identiteitsontwikkeling bijdraagt tot verbondenheid. Deelnamelink wordt via mail bezorgd.
URL:https://www.socialekalender.be/evenement/over-bruggen-en-grenzen-webinar/
LOCATION:ONLINE
ATTACH;FMTTYPE=image/jpeg:https://www.socialekalender.be/wp-content/uploads/2021/05/Khalid-Benhaddou.jpg
END:VEVENT
BEGIN:VEVENT
DTSTART;TZID=Europe/Brussels:20220224T203000
DTEND;TZID=Europe/Brussels:20220224T203000
DTSTAMP:20260421T025852
CREATED:20220106T150134Z
LAST-MODIFIED:20220106T150134Z
UID:6514-1645734600-1645734600@www.socialekalender.be
SUMMARY:Met je puber praten over relaties en seks
DESCRIPTION:Met je pubers over seks praten: niet simpel. Ouders willen eigenlijk niet weten dat hun kinderen het doen\, en vice versa. En wat moet je hen nog vertellen? Ze vinden toch alles online via hun smartphone; van weetjes en standjes tot liefde en liefjes. Het is aan jou als ouder om hen te begeleiden in die digitale jungle. Doet de gedachte aan genante gesprekken het schaamrood naar je wangen stijgen? Is sexting ver van je bed? Sarah Van Gysegem\, zelf mama van drie\, onder wie twee volbloedtieners\, maakte van de puberteit haar specialiteit. In 2016 verscheen haar boek ‘Typisch tieners’\, boordevol praktische tips om het hoofd koel te houden tijdens de woelige puberjaren van je kroost.\n \nTijdens deze lezing zet Sarah je met concrete voorbeelden en praktische tips een heel eind op weg en maakt ze korte metten met taboes. Zo kun je met een gerust hart je tieners hun weg laten zoeken op het pad van liefde en seks.
URL:https://www.socialekalender.be/evenement/met-je-puber-praten-over-relaties-en-seks/
LOCATION:’t Poorthuis\, Zuidervest 2a\, Peer\, 3990\, België
ATTACH;FMTTYPE=image/jpeg:https://www.socialekalender.be/wp-content/uploads/2022/01/relaties.jpg
END:VEVENT
END:VCALENDAR