BEGIN:VCALENDAR
VERSION:2.0
PRODID:-//Sociale Kalender - ECPv6.2.9//NONSGML v1.0//EN
CALSCALE:GREGORIAN
METHOD:PUBLISH
X-WR-CALNAME:Sociale Kalender
X-ORIGINAL-URL:https://www.socialekalender.be
X-WR-CALDESC:Evenementen voor Sociale Kalender
REFRESH-INTERVAL;VALUE=DURATION:PT1H
X-Robots-Tag:noindex
X-PUBLISHED-TTL:PT1H
BEGIN:VTIMEZONE
TZID:Europe/Brussels
BEGIN:DAYLIGHT
TZOFFSETFROM:+0100
TZOFFSETTO:+0200
TZNAME:CEST
DTSTART:20220327T010000
END:DAYLIGHT
BEGIN:STANDARD
TZOFFSETFROM:+0200
TZOFFSETTO:+0100
TZNAME:CET
DTSTART:20221030T010000
END:STANDARD
END:VTIMEZONE
BEGIN:VEVENT
DTSTART;TZID=Europe/Brussels:20220225T200000
DTEND;TZID=Europe/Brussels:20220225T200000
DTSTAMP:20260421T025851
CREATED:20220203T102747Z
LAST-MODIFIED:20220203T102747Z
UID:6611-1645819200-1645819200@www.socialekalender.be
SUMMARY:Philippe Lebeau (vernissage tentoonstelling)
DESCRIPTION:Het oeuvre van Philippe Lebeau kunnen we duidelijk in de Europese variant van de popart situeren.  Hij gebruikt alledaagse iconen van de communicatiemaatschappij. Wegwijzers\, de Amerikaanse vlag\, postzegels\, dollarbiljetten\, goudstaven\, krantenkoppen en nummerplaten plaatst hij naast teksten en foto’s in collagevorm van opperhoofden van indianenstammen.  De figuratieve elementen worden geschilderd in olieverf\, de abstracte achtergrond in acryl.  Pluimen symboliseren de kwetsbaarheid van een volk.  Zijn doeken geven een netwerk van verwijzingen.  Maar bovenal zijn het mooie schilderijen.  Telkens weer put de kunstenaar uit het popart arsenaal van beeldmogelijkheden.  Symbolen van de snelle gemediatiseerde wereld\, die hij als fotojournalist kent\, plaatst hij tegenover de natuurbeleving en de spiritualiteit die de indianenbevolking uitstraalt.  Ecologische problemen als de klimaatverandering bewijzen hoe kwetsbaar onze maatschappij is geworden\, hoe belangrijk het is zich te bezinnen over essentiële waarden.  De tentoonstelling blijft gratis te bezichtigen elke zaterdag van 14 tot 17u en elke zondag van 15u tot 17u\, tot 13 maart.
URL:https://www.socialekalender.be/evenement/philippe-lebeau-vernissage-tentoonstelling/
LOCATION:Vrijzinnig Punt en Boekhandel Grim
ATTACH;FMTTYPE=image/jpeg:https://www.socialekalender.be/wp-content/uploads/2022/02/Philippe-Lebeau.jpg
END:VEVENT
END:VCALENDAR