BEGIN:VCALENDAR
VERSION:2.0
PRODID:-//Sociale Kalender - ECPv6.2.9//NONSGML v1.0//EN
CALSCALE:GREGORIAN
METHOD:PUBLISH
X-WR-CALNAME:Sociale Kalender
X-ORIGINAL-URL:https://www.socialekalender.be
X-WR-CALDESC:Evenementen voor Sociale Kalender
REFRESH-INTERVAL;VALUE=DURATION:PT1H
X-Robots-Tag:noindex
X-PUBLISHED-TTL:PT1H
BEGIN:VTIMEZONE
TZID:Europe/Brussels
BEGIN:DAYLIGHT
TZOFFSETFROM:+0100
TZOFFSETTO:+0200
TZNAME:CEST
DTSTART:20220327T010000
END:DAYLIGHT
BEGIN:STANDARD
TZOFFSETFROM:+0200
TZOFFSETTO:+0100
TZNAME:CET
DTSTART:20221030T010000
END:STANDARD
END:VTIMEZONE
BEGIN:VEVENT
DTSTART;TZID=Europe/Brussels:20220226T080000
DTEND;TZID=Europe/Brussels:20220226T130000
DTSTAMP:20260421T025851
CREATED:20220116T140351Z
LAST-MODIFIED:20220116T140351Z
UID:6553-1645862400-1645880400@www.socialekalender.be
SUMMARY:Biomarkt
DESCRIPTION:Limburg is erg rijk aan basisinitiatieven met een ecologisch en/of sociaal profiel. Hierdoor is er een sterk netwerk gegroeid van mensen en groepen die bewust\, duurzaam en solidair door het leven willen gaan. Ook tijdens deze coronacrisis blijven er onder de oppervlakte heel wat dingen doorleven en groeien. De biomarkt in Winterslag is er één van. Elke zaterdag tijdens de markt in de Vennestraat opent zij haar deuren en kramen enkele meters verderop\, ter hoogte van de Hoefstadstraat 21. Het is een initiatief van vzw Rosendal Marked\, een project naar Deense inspiratie van Gilberte Claes. De bioboerderij Het Vrije Veld van Souliman Diraa verleende er dadelijk haar medewerking aan. Vier verkooppunten zorgen voor een gevarieerd aanbod. Binnen staat Gilberte achter de balie en biedt ze een assortiment van ter plaatse gebakken broden\, taarten en gebak aan. Robin Geurts is er de bakker van dienst. Daarnaast verkoopt Gilberte nog sappen en ook kazen vanuit de korte keten (Karditsel\, Catharinadal). Buiten brengt Souliman groenten en fruit aan de man\, deels van eigen teelt\, deels van andere Limburgse bioboeren\, aangevuld met enkele producten uit de biologische groothandel. Even verderop staat er een verkoper van Mycotopia (Diepenbeek) met verschillende soorten zelfgeteelde paddenstoelen. Tenslotte is er nog een verkoopstand van Kiemm met kweekpotten en zaden voor de keuken. De biomarkt is het jaar rond present.
URL:https://www.socialekalender.be/evenement/biomarkt-16/
LOCATION:Hoefstadstraat\, Hoefstadstraat\, Winterslag-Genk\, Limburg\, 3600\, België
ATTACH;FMTTYPE=image/jpeg:https://www.socialekalender.be/wp-content/uploads/2021/04/Souliman-biomarkt2-1-scaled.jpg
END:VEVENT
BEGIN:VEVENT
DTSTART;TZID=Europe/Brussels:20220226T100000
DTEND;TZID=Europe/Brussels:20220226T120000
DTSTAMP:20260421T025851
CREATED:20220203T102042Z
LAST-MODIFIED:20220203T102042Z
UID:6604-1645869600-1645876800@www.socialekalender.be
SUMMARY:Repaircafé Hasselt
DESCRIPTION:In het repaircafé helpen we je met het herstellen van allerhande voorwerpen: kleding\, elektrische apparaten\, fietsen\, computers\,… De hulp is gratis en samen met de enthousiaste vrijwilligers steek je nog iets op ook! Ook wie niets heeft om te repareren is welkom en neemt een drankje aan de bar\, snuistert in de boeken van het boekenruilcafé of gaat kijken bij de reparatie van iemand anders. De afvalberg wordt kleiner en we werken aan een duurzame samenleving. Bovendien is het repaircafé ideaal om mensen te leren kennen. Elke laatste zaterdag van de maand.
URL:https://www.socialekalender.be/evenement/repaircafe-hasselt-2/
LOCATION:Vrijzinnig Punt en Boekhandel Grim
ATTACH;FMTTYPE=image/jpeg:https://www.socialekalender.be/wp-content/uploads/2022/02/repair-café-2.jpg
END:VEVENT
END:VCALENDAR