BEGIN:VCALENDAR
VERSION:2.0
PRODID:-//Sociale Kalender - ECPv6.2.9//NONSGML v1.0//EN
CALSCALE:GREGORIAN
METHOD:PUBLISH
X-ORIGINAL-URL:https://www.socialekalender.be
X-WR-CALDESC:Evenementen voor Sociale Kalender
REFRESH-INTERVAL;VALUE=DURATION:PT1H
X-Robots-Tag:noindex
X-PUBLISHED-TTL:PT1H
BEGIN:VTIMEZONE
TZID:Europe/Brussels
BEGIN:DAYLIGHT
TZOFFSETFROM:+0100
TZOFFSETTO:+0200
TZNAME:CEST
DTSTART:20220327T010000
END:DAYLIGHT
BEGIN:STANDARD
TZOFFSETFROM:+0200
TZOFFSETTO:+0100
TZNAME:CET
DTSTART:20221030T010000
END:STANDARD
END:VTIMEZONE
BEGIN:VEVENT
DTSTART;TZID=Europe/Brussels:20220313T143000
DTEND;TZID=Europe/Brussels:20220313T143000
DTSTAMP:20260421T012632
CREATED:20220203T104143Z
LAST-MODIFIED:20220203T104143Z
UID:6623-1647181800-1647181800@www.socialekalender.be
SUMMARY:Tine Hens over klimaatverwarring
DESCRIPTION:Tijdens deze talkshow vraagt gastheer Guido Wevers aan Tine Hens om haar licht te laten schijnen over allerlei redeneringen en uitspraken die verwarring zaaien over een kordate aanpak van het klimaatprobleem. Die gaan er bij een deel van de bevolking vlotter in dan de vervelende feiten. Tine Hens (° 1974) studeerde geschiedenis en is nu actief als journalist en schrijfster. Ze is een bekende stem in het debat rond een andere economie.
URL:https://www.socialekalender.be/evenement/tine-hens-over-klimaatverwarring/
LOCATION:Cultuurcentrum Hasselt\, Kunstlaan 5\, Hasselt\, 3500\, België
ATTACH;FMTTYPE=image/jpeg:https://www.socialekalender.be/wp-content/uploads/2022/02/Tine-Hens-1.jpg
END:VEVENT
END:VCALENDAR