BEGIN:VCALENDAR
VERSION:2.0
PRODID:-//Sociale Kalender - ECPv6.2.9//NONSGML v1.0//EN
CALSCALE:GREGORIAN
METHOD:PUBLISH
X-WR-CALNAME:Sociale Kalender
X-ORIGINAL-URL:https://www.socialekalender.be
X-WR-CALDESC:Evenementen voor Sociale Kalender
REFRESH-INTERVAL;VALUE=DURATION:PT1H
X-Robots-Tag:noindex
X-PUBLISHED-TTL:PT1H
BEGIN:VTIMEZONE
TZID:Europe/Brussels
BEGIN:DAYLIGHT
TZOFFSETFROM:+0100
TZOFFSETTO:+0200
TZNAME:CEST
DTSTART:20220327T010000
END:DAYLIGHT
BEGIN:STANDARD
TZOFFSETFROM:+0200
TZOFFSETTO:+0100
TZNAME:CET
DTSTART:20221030T010000
END:STANDARD
END:VTIMEZONE
BEGIN:VEVENT
DTSTART;TZID=Europe/Brussels:20220314T193000
DTEND;TZID=Europe/Brussels:20220314T193000
DTSTAMP:20260421T012635
CREATED:20211129T110701Z
LAST-MODIFIED:20211129T110701Z
UID:6324-1647286200-1647286200@www.socialekalender.be
SUMMARY:Documentaire over Thich Nhat Hanh
DESCRIPTION:Een inspirerende documentaire waarin je Thich Nhat Hanh aan het werk ziet in Washington DC\, waar hij probeert om in het centrum van de wereldmacht zijn vredesboodschap zo effectief mogelijk te laten doorklinken. Daarnaast zijn er ook fragmenten van een retraite in de kloostergemeenschap Plumvillage in Zuid- Frankrijk waaraan Palestijnen en Israëliërs deelnemen en voor het eerst elkaars verhaal horen. De bescheidenheid van Thich Nhat Hanh\, zijn grote maatschappelijke betrokkenheid en het feit dat hij voorleeft wat hij zegt\, maken van hem een inspirerende en geliefde leraar. In simpele bewoordingen weet hij de essentie van de boeddhistische leer uit te dragen\, direct gekoppeld aan de praktijk van het dagelijks leven. Na een korte meditatie kijken we samen naar de film en is er nadien tijd om uit te wisselen. Er kunnen ook vragen gesteld worden aan Sabine Meyers die meermaals deelgenomen heeft aan retraites in Plumvillage.\n \n  \n 
URL:https://www.socialekalender.be/evenement/documentaire-over-thich-nhat-hanh/
LOCATION:Siloam\, Holsteenweg 17\, Zonhoven\, 3520\, België
ATTACH;FMTTYPE=image/jpeg:https://www.socialekalender.be/wp-content/uploads/2021/11/Thich-Nhat-Hanh.jpg
END:VEVENT
END:VCALENDAR