BEGIN:VCALENDAR
VERSION:2.0
PRODID:-//Sociale Kalender - ECPv6.2.9//NONSGML v1.0//EN
CALSCALE:GREGORIAN
METHOD:PUBLISH
X-WR-CALNAME:Sociale Kalender
X-ORIGINAL-URL:https://www.socialekalender.be
X-WR-CALDESC:Evenementen voor Sociale Kalender
REFRESH-INTERVAL;VALUE=DURATION:PT1H
X-Robots-Tag:noindex
X-PUBLISHED-TTL:PT1H
BEGIN:VTIMEZONE
TZID:Europe/Brussels
BEGIN:DAYLIGHT
TZOFFSETFROM:+0100
TZOFFSETTO:+0200
TZNAME:CEST
DTSTART:20220327T010000
END:DAYLIGHT
BEGIN:STANDARD
TZOFFSETFROM:+0200
TZOFFSETTO:+0100
TZNAME:CET
DTSTART:20221030T010000
END:STANDARD
END:VTIMEZONE
BEGIN:VEVENT
DTSTART;TZID=Europe/Brussels:20220319T100000
DTEND;TZID=Europe/Brussels:20220319T140000
DTSTAMP:20260421T012636
CREATED:20211110T095326Z
LAST-MODIFIED:20211110T095326Z
UID:6256-1647684000-1647698400@www.socialekalender.be
SUMMARY:Geefmarkt
DESCRIPTION:Op deze markt kan iedereen weggeven wat hij niet meer nodig heeft\, en meenemen wat hij kan gebruiken. Je hoeft niets mee te brengen om iets te kunnen meenemen. Wil je veel spullen afleveren\, graag een seintje vooraf. Alles wat op een fiets te vervoeren is\, is welkom: kledij\, speelgoed\, decoratie\, boeken\,… Het moet een gezellig ontmoetingsmoment worden: gratis soep\, koffie en koffiekoeken. Dit is een basisinitiatief vanuit vele verenigingen en burgers\, met steun van het stadsbestuur.
URL:https://www.socialekalender.be/evenement/geefmarkt-2/
LOCATION:Binnenplein Stadhuis Genk\, Stadsplein 1\, Genk\, 3600\, België
ATTACH;FMTTYPE=image/jpeg:https://www.socialekalender.be/wp-content/uploads/2021/11/Geefpleintje2017-tafel.jpg
END:VEVENT
BEGIN:VEVENT
DTSTART;TZID=Europe/Brussels:20220319T100000
DTEND;TZID=Europe/Brussels:20220319T160000
DTSTAMP:20260421T012636
CREATED:20220302T150245Z
LAST-MODIFIED:20220302T150245Z
UID:6736-1647684000-1647705600@www.socialekalender.be
SUMMARY:150 jaar Sint-Vincentius Kuringen
DESCRIPTION:Tentoonstelling rond 150 jaar onafgebroken strijd tegen armoede. In samenwerking met Heemkunde Hasselt-Kuringen en Documentatiecentrum De Graef. Ook open op zondag 20 maart van 10 tot 16u.
URL:https://www.socialekalender.be/evenement/150-jaar-sint-vincentius-kuringen/
LOCATION:Prinsenhof\, Prinsenhofweg 21\, Kuringen-Hasselt\, Limburg\, 3511\, België
ATTACH;FMTTYPE=image/jpeg:https://www.socialekalender.be/wp-content/uploads/2022/03/Sint-Vincentius.jpg
END:VEVENT
BEGIN:VEVENT
DTSTART;TZID=Europe/Brussels:20220319T150000
DTEND;TZID=Europe/Brussels:20220319T160000
DTSTAMP:20260421T012636
CREATED:20220220T152953Z
LAST-MODIFIED:20220220T152953Z
UID:6685-1647702000-1647705600@www.socialekalender.be
SUMMARY:Kringlopen voor een leefbare wereld
DESCRIPTION:Even voor de zomer van 2020 ging er in Hasselt een nieuwe burgerbeweging van start\, De Ring. Zij brengt mensen samen om te bouwen aan een warme samenleving met een duurzame levensstijl. Ook blijft ze de urgentie van een ingrijpend klimaatbeleid op de agenda zetten. Het is de bedoeling van De Ring om geregeld een wandeling te maken over het voetpad langs de Groene Boulevard in Hasselt (kringlopen)\, om zo een band te scheppen tussen de deelnemers. Door de coronacrisis werd de frequentie teruggebracht tot een wandeling per seizoen\, maar vanaf nu zal het kringlopen maandelijks plaatsvinden\, elke derde zaterdag. De initiatiefnemers vinden direct menselijk contact een communicatieve meerwaarde in tijden van digitalisering. Het is telkens een kleurrijke optocht\, en iedereen wordt aangemoedigd om spandoeken en borden mee te brengen.
URL:https://www.socialekalender.be/evenement/kringlopen-voor-een-leefbare-wereld-7/
LOCATION:Kolonel Dusartplein\, Kolonel Dusartplein\, Hasselt\, 3500
ATTACH;FMTTYPE=image/jpeg:https://www.socialekalender.be/wp-content/uploads/2022/02/kringlopen-12.21-1.jpg
END:VEVENT
END:VCALENDAR