BEGIN:VCALENDAR
VERSION:2.0
PRODID:-//Sociale Kalender - ECPv6.2.9//NONSGML v1.0//EN
CALSCALE:GREGORIAN
METHOD:PUBLISH
X-ORIGINAL-URL:https://www.socialekalender.be
X-WR-CALDESC:Evenementen voor Sociale Kalender
REFRESH-INTERVAL;VALUE=DURATION:PT1H
X-Robots-Tag:noindex
X-PUBLISHED-TTL:PT1H
BEGIN:VTIMEZONE
TZID:Europe/Brussels
BEGIN:DAYLIGHT
TZOFFSETFROM:+0100
TZOFFSETTO:+0200
TZNAME:CEST
DTSTART:20220327T010000
END:DAYLIGHT
BEGIN:STANDARD
TZOFFSETFROM:+0200
TZOFFSETTO:+0100
TZNAME:CET
DTSTART:20221030T010000
END:STANDARD
END:VTIMEZONE
BEGIN:VEVENT
DTSTART;TZID=Europe/Brussels:20220321T110000
DTEND;TZID=Europe/Brussels:20220321T120000
DTSTAMP:20260421T012632
CREATED:20220214T154037Z
LAST-MODIFIED:20220214T154037Z
UID:6675-1647860400-1647864000@www.socialekalender.be
SUMMARY:Conventie over de Biodiversiteit (webinar)
DESCRIPTION:Koen Stuyck\, woordvoerder van WWF\, bespreekt de Conventie over de Biodiversiteit\, die later dit jaar in Kunming (China) zal plaatsvinden. Meer info: https://www.grootoudersvoorhetklimaat.be/events/stuyck/
URL:https://www.socialekalender.be/evenement/conventie-over-de-biodiversiteit-webinar/
LOCATION:ONLINE
ATTACH;FMTTYPE=image/jpeg:https://www.socialekalender.be/wp-content/uploads/2022/02/Koen-Stuyck.jpg
END:VEVENT
BEGIN:VEVENT
DTSTART;TZID=Europe/Brussels:20220321T193000
DTEND;TZID=Europe/Brussels:20220321T220000
DTSTAMP:20260421T012633
CREATED:20211229T155319Z
LAST-MODIFIED:20211229T155319Z
UID:6490-1647891000-1647900000@www.socialekalender.be
SUMMARY:Wateroverlast en -tekort
DESCRIPTION:In zijn inleiding legt Patrick Willems (hydroloog KUL-foto) uit waarom ons hemelwater zo verkeerd verdeeld is. Daarna zullen vertegenwoordigers van natuur en landbouw met elkaar in gesrek gaan om samen met de droogtecoördinator van de provincie tot oplossingen te komen. Dit gebeurt met live publiek als de sanitaire regels het toelaten. Er zal ook een live-stream gebeuren zodat wie wil ook vanaf een scherm kan volgen. Een initiatief van de Limburgse Milieukoepel i.s.m. Avansa Limburg\, Natuurpunt Limburg en Vrijzinnig Punt Hasselt.
URL:https://www.socialekalender.be/evenement/wateroverlast-en-tekort/
LOCATION:Vrijzinnig Punt en Boekhandel Grim
ATTACH;FMTTYPE=image/jpeg:https://www.socialekalender.be/wp-content/uploads/2021/12/Patrick-Willems-1.jpg
END:VEVENT
END:VCALENDAR