BEGIN:VCALENDAR
VERSION:2.0
PRODID:-//Sociale Kalender - ECPv6.2.9//NONSGML v1.0//EN
CALSCALE:GREGORIAN
METHOD:PUBLISH
X-ORIGINAL-URL:https://www.socialekalender.be
X-WR-CALDESC:Evenementen voor Sociale Kalender
REFRESH-INTERVAL;VALUE=DURATION:PT1H
X-Robots-Tag:noindex
X-PUBLISHED-TTL:PT1H
BEGIN:VTIMEZONE
TZID:Europe/Brussels
BEGIN:DAYLIGHT
TZOFFSETFROM:+0100
TZOFFSETTO:+0200
TZNAME:CEST
DTSTART:20220327T010000
END:DAYLIGHT
BEGIN:STANDARD
TZOFFSETFROM:+0200
TZOFFSETTO:+0100
TZNAME:CET
DTSTART:20221030T010000
END:STANDARD
END:VTIMEZONE
BEGIN:VEVENT
DTSTART;TZID=Europe/Brussels:20220330T193000
DTEND;TZID=Europe/Brussels:20220330T193000
DTSTAMP:20260420T220933
CREATED:20220306T171343Z
LAST-MODIFIED:20220327T070721Z
UID:6789-1648668600-1648668600@www.socialekalender.be
SUMMARY:Diversiteitstafel over oorlog
DESCRIPTION:De diversiteitstafels brengen een zo divers mogelijk publiek rond de tafel om samen van gedachten te wisselen. Deze vijftiende editie speelt in op de actualiteit in Oekraïne. Wie had verwacht dat er zo snel een oorlog zou uitbreken\, zo dicht bij Europa? Wat ging er door je heen toen je de nieuwsberichten binnenkreeg? Voelde je angst\, onzekerheid\, verwarring? Hoe ging je hiermee om? Laat ons van gedachten wisselen\, al zijn ze misschien verschillend.
URL:https://www.socialekalender.be/evenement/diversiteitstafel-over-oorlog/
LOCATION:Regenbooghuis\, Meldertstraat 38\, Hasselt\, 3500\, België
ATTACH;FMTTYPE=image/jpeg:https://www.socialekalender.be/wp-content/uploads/2022/03/oorlog-oekraine-scaled.jpg
END:VEVENT
END:VCALENDAR