BEGIN:VCALENDAR
VERSION:2.0
PRODID:-//Sociale Kalender - ECPv6.2.9//NONSGML v1.0//EN
CALSCALE:GREGORIAN
METHOD:PUBLISH
X-ORIGINAL-URL:https://www.socialekalender.be
X-WR-CALDESC:Evenementen voor Sociale Kalender
REFRESH-INTERVAL;VALUE=DURATION:PT1H
X-Robots-Tag:noindex
X-PUBLISHED-TTL:PT1H
BEGIN:VTIMEZONE
TZID:Europe/Brussels
BEGIN:DAYLIGHT
TZOFFSETFROM:+0100
TZOFFSETTO:+0200
TZNAME:CEST
DTSTART:20220327T010000
END:DAYLIGHT
BEGIN:STANDARD
TZOFFSETFROM:+0200
TZOFFSETTO:+0100
TZNAME:CET
DTSTART:20221030T010000
END:STANDARD
END:VTIMEZONE
BEGIN:VEVENT
DTSTART;TZID=Europe/Brussels:20220402T140000
DTEND;TZID=Europe/Brussels:20220402T170000
DTSTAMP:20260420T220934
CREATED:20220302T151815Z
LAST-MODIFIED:20220302T151815Z
UID:6744-1648908000-1648918800@www.socialekalender.be
SUMMARY:Repaircafé in Stokkem
DESCRIPTION:Een repaircafé is een bijeenkomst waar mensen hun spullen met de hulp van anderen herstellen. In Stokkem zullen er vaklui aanwezig zijn met het nodige materiaal om kleding\, kleine elektro en fietsen te repareren. De herstellingen zijn gratis\, maar voor wisselstukken kan de aankoopprijs gevraagd worden.  Er is drank en cake aanwezig\, want op dit repaircafé komen er ook altijd mensen om gewoon een praatje te slaan. Elke eerste zaterdag van de maand.
URL:https://www.socialekalender.be/evenement/repaircafe-in-stokkem/
LOCATION:Stockheim 1\, Stockheim 1\, Dilsen-Stokkem\, Limburg\, 3650\, België
ATTACH;FMTTYPE=image/jpeg:https://www.socialekalender.be/wp-content/uploads/2022/03/repair-café-2-1.jpg
END:VEVENT
END:VCALENDAR