BEGIN:VCALENDAR
VERSION:2.0
PRODID:-//Sociale Kalender - ECPv6.2.9//NONSGML v1.0//EN
CALSCALE:GREGORIAN
METHOD:PUBLISH
X-ORIGINAL-URL:https://www.socialekalender.be
X-WR-CALDESC:Evenementen voor Sociale Kalender
REFRESH-INTERVAL;VALUE=DURATION:PT1H
X-Robots-Tag:noindex
X-PUBLISHED-TTL:PT1H
BEGIN:VTIMEZONE
TZID:Europe/Brussels
BEGIN:DAYLIGHT
TZOFFSETFROM:+0100
TZOFFSETTO:+0200
TZNAME:CEST
DTSTART:20220327T010000
END:DAYLIGHT
BEGIN:STANDARD
TZOFFSETFROM:+0200
TZOFFSETTO:+0100
TZNAME:CET
DTSTART:20221030T010000
END:STANDARD
END:VTIMEZONE
BEGIN:VEVENT
DTSTART;TZID=Europe/Brussels:20220403T100000
DTEND;TZID=Europe/Brussels:20220403T100000
DTSTAMP:20260420T220934
CREATED:20220313T162059Z
LAST-MODIFIED:20220313T162059Z
UID:6806-1648980000-1648980000@www.socialekalender.be
SUMMARY:Stiltecirkel voor solidariteit en vrede
DESCRIPTION:Pax Christi organiseert overal in België stiltecirkels om de vredesboodschap zichtbaar te maken. Deze organisatie neemt dit initiatief uit solidariteit met het Oekraïense volk\, en met iedereen die lijdt onder deze oorlog\, maar ook uit solidariteit met de Russische anti-oorlogsbeweging. Zo wil ze bouwen aan vrede door dialoog.
URL:https://www.socialekalender.be/evenement/stiltecirkel-voor-solidariteit-en-vrede/
LOCATION:Grote Markt\, St-Truiden\, Limburg\, 3800\, België
ATTACH;FMTTYPE=image/jpeg:https://www.socialekalender.be/wp-content/uploads/2022/03/stiltecirkel.jpg
END:VEVENT
BEGIN:VEVENT
DTSTART;TZID=Europe/Brussels:20220403T100000
DTEND;TZID=Europe/Brussels:20220403T163000
DTSTAMP:20260420T220934
CREATED:20211223T152618Z
LAST-MODIFIED:20211223T152618Z
UID:6420-1648980000-1649003400@www.socialekalender.be
SUMMARY:Stiltedag
DESCRIPTION:Op een stiltedag worden activiteiten voorgesteld die je helpen om thuis te komen bij jezelf\, in contact met wat er in jou leeft\, in contact met jouw eigen Bron. Het gaat hier om activiteiten zoals een meditatie\, een ontspanningsoefening\, yoga\, een wandeling in het nabijgelegen natuurreservaat de Teut\, … maar je bent vrij hier wel of niet aan deel te nemen. Je kan ervoor kiezen om je terug te trekken en om je stiltedag helemaal zelf in te vullen. We sluiten de dag af met een moment van delen voor wie dit wil. We vragen 25€ voor de stiltedag om Siloam vzw te steunen. Siloam is een prachtig gelegen huis\, op 200m van de Teut\, die plek wil bieden aan ieder die zich wil herbronnen en dit via een verscheiden aanbod. Net als veel andere verenigingen heeft Siloam haar activiteiten moeten stilleggen\, waardoor ook de inkomsten achterwege bleven. Een grotere bijdrage voor het aanbod van deze dag\, ter ondersteuning van Siloam\, mag altijd maar we willen zéker niet dat de prijs een belemmering vormt om deel te nemen. Aarzel in dat geval niet om contact op te nemen. Ook voor andere vragen kan je bellen naar 0471135759 of mailen. Na inschrijving krijg je verdere info. Begeleidster Sabine Meyers is druyogadocent en mindfulnesstrainer.
URL:https://www.socialekalender.be/evenement/stiltedag-8/
LOCATION:Siloam\, Holsteenweg 17\, Zonhoven\, 3520\, België
ATTACH;FMTTYPE=image/jpeg:https://www.socialekalender.be/wp-content/uploads/2021/12/stilte-2.jpg
END:VEVENT
END:VCALENDAR