BEGIN:VCALENDAR
VERSION:2.0
PRODID:-//Sociale Kalender - ECPv6.2.9//NONSGML v1.0//EN
CALSCALE:GREGORIAN
METHOD:PUBLISH
X-ORIGINAL-URL:https://www.socialekalender.be
X-WR-CALDESC:Evenementen voor Sociale Kalender
REFRESH-INTERVAL;VALUE=DURATION:PT1H
X-Robots-Tag:noindex
X-PUBLISHED-TTL:PT1H
BEGIN:VTIMEZONE
TZID:Europe/Brussels
BEGIN:DAYLIGHT
TZOFFSETFROM:+0100
TZOFFSETTO:+0200
TZNAME:CEST
DTSTART:20220327T010000
END:DAYLIGHT
BEGIN:STANDARD
TZOFFSETFROM:+0200
TZOFFSETTO:+0100
TZNAME:CET
DTSTART:20221030T010000
END:STANDARD
END:VTIMEZONE
BEGIN:VEVENT
DTSTART;TZID=Europe/Brussels:20220408T193000
DTEND;TZID=Europe/Brussels:20220408T193000
DTSTAMP:20260420T220936
CREATED:20220306T170333Z
LAST-MODIFIED:20220306T170333Z
UID:6777-1649446200-1649446200@www.socialekalender.be
SUMMARY:Cinema Paradiso (film)
DESCRIPTION:Deze Italiaanse film van Giuseppe Tomatori (1988) won de juryprijs van het Filmfestival van Cannes en de Oscar voor de beste niet-Engelstalige film. Na de vertoning is er nog een muzikaal optreden door Michelle\, Renaat en Guido. Deuren open om 19u. Inschrijven ten laatste op 4 april.
URL:https://www.socialekalender.be/evenement/cinema-paradiso-film/
LOCATION:Casino Modern\, André Dumontlaan 2\, Waterschei-Genk\, 3600
ATTACH;FMTTYPE=image/jpeg:https://www.socialekalender.be/wp-content/uploads/2022/03/cinema-paradiso.jpg
END:VEVENT
END:VCALENDAR