BEGIN:VCALENDAR
VERSION:2.0
PRODID:-//Sociale Kalender - ECPv6.2.9//NONSGML v1.0//EN
CALSCALE:GREGORIAN
METHOD:PUBLISH
X-ORIGINAL-URL:https://www.socialekalender.be
X-WR-CALDESC:Evenementen voor Sociale Kalender
REFRESH-INTERVAL;VALUE=DURATION:PT1H
X-Robots-Tag:noindex
X-PUBLISHED-TTL:PT1H
BEGIN:VTIMEZONE
TZID:Europe/Brussels
BEGIN:DAYLIGHT
TZOFFSETFROM:+0100
TZOFFSETTO:+0200
TZNAME:CEST
DTSTART:20220327T010000
END:DAYLIGHT
BEGIN:STANDARD
TZOFFSETFROM:+0200
TZOFFSETTO:+0100
TZNAME:CET
DTSTART:20221030T010000
END:STANDARD
END:VTIMEZONE
BEGIN:VEVENT
DTSTART;TZID=Europe/Brussels:20220411T200000
DTEND;TZID=Europe/Brussels:20220411T200000
DTSTAMP:20260420T220934
CREATED:20220225T142055Z
LAST-MODIFIED:20220225T142055Z
UID:6707-1649707200-1649707200@www.socialekalender.be
SUMMARY:Sartre & de Beauvoir (theater)
DESCRIPTION:Sartre en de Beauvoir is het vierde deel in een theaterreeks rond grote filosofen van filosoof en theatermaker Stefaan van Brabandt. Na de monologen Socrates\, Marx en Spinoza brengt hij nu een dialoog tussen het beroemdste koppel uit de geschiedenis van de filosofie: Jean-Paul Sartre en Simone de Beauvoir\, gespeeld door Sien Eggers en Frank Focketyn. In dit theaterstuk kijken de cultfiguren van het Franse existentialisme terug op hun leven en denken\, maar ook op hun turbulente liefdesrelatie. Ook te bezichtigen op 25/2 (Muze Zolder)\, 24/3 (C-Mine Genk)\, 1/4 (Velinx Tongeren)\, 8/4 (Adelberg Lommel)\, 21/4 (CC Maasmechelen)\, 22/4 (CH Tessenderlo) en 26/5 (CC Hasselt).
URL:https://www.socialekalender.be/evenement/sartre-de-beauvoir-theater-2/
LOCATION:Cultuurcentrum De Bogaard\, Capucienessestraat 8\, St-Truiden\, Limburg\, 3800\, België
ATTACH;FMTTYPE=image/jpeg:https://www.socialekalender.be/wp-content/uploads/2022/02/focketyn-eggers.jpeg
END:VEVENT
END:VCALENDAR