BEGIN:VCALENDAR
VERSION:2.0
PRODID:-//Sociale Kalender - ECPv6.2.9//NONSGML v1.0//EN
CALSCALE:GREGORIAN
METHOD:PUBLISH
X-WR-CALNAME:Sociale Kalender
X-ORIGINAL-URL:https://www.socialekalender.be
X-WR-CALDESC:Evenementen voor Sociale Kalender
REFRESH-INTERVAL;VALUE=DURATION:PT1H
X-Robots-Tag:noindex
X-PUBLISHED-TTL:PT1H
BEGIN:VTIMEZONE
TZID:Europe/Brussels
BEGIN:DAYLIGHT
TZOFFSETFROM:+0100
TZOFFSETTO:+0200
TZNAME:CEST
DTSTART:20220327T010000
END:DAYLIGHT
BEGIN:STANDARD
TZOFFSETFROM:+0200
TZOFFSETTO:+0100
TZNAME:CET
DTSTART:20221030T010000
END:STANDARD
END:VTIMEZONE
BEGIN:VEVENT
DTSTART;TZID=Europe/Brussels:20220416T103000
DTEND;TZID=Europe/Brussels:20220416T160000
DTSTAMP:20260420T220937
CREATED:20220302T152834Z
LAST-MODIFIED:20220302T152834Z
UID:6756-1650105000-1650124800@www.socialekalender.be
SUMMARY:Salamanderdag
DESCRIPTION:In de voormiddag is er een lezing over onze salamanders. Na de lunch (zelf mee te brengen) gaan we op bezoek in Egoven en Overbroek.
URL:https://www.socialekalender.be/evenement/salamanderdag/
LOCATION:Natuurhuis Haspengouw\, Kleinveldstraat 54\, Sint-Truiden\, Limburg\, 3800\, België
ATTACH;FMTTYPE=image/jpeg:https://www.socialekalender.be/wp-content/uploads/2022/03/salamander.jpeg
END:VEVENT
BEGIN:VEVENT
DTSTART;TZID=Europe/Brussels:20220416T150000
DTEND;TZID=Europe/Brussels:20220416T160000
DTSTAMP:20260420T220937
CREATED:20220403T153427Z
LAST-MODIFIED:20220403T153427Z
UID:6879-1650121200-1650124800@www.socialekalender.be
SUMMARY:Kringlopen voor een leefbare wereld
DESCRIPTION:Even voor de zomer van 2020 ging er in Hasselt een nieuwe burgerbeweging van start\, De Ring. Zij brengt mensen samen om te bouwen aan een warme samenleving met een duurzame levensstijl. Ook blijft ze de urgentie van een ingrijpend klimaatbeleid op de agenda zetten. Het is de bedoeling van De Ring om geregeld een wandeling te maken over het voetpad langs de Groene Boulevard in Hasselt (kringlopen)\, om zo een band te scheppen tussen de deelnemers. Sinds maart vindt het kringlopen maandelijks plaats\, elke derde zaterdag. De initiatiefnemers vinden direct menselijk contact een communicatieve meerwaarde in tijden van digitalisering. Het is telkens een kleurrijke optocht\, en iedereen wordt aangemoedigd om spandoeken en borden mee te brengen.
URL:https://www.socialekalender.be/evenement/kringlopen-voor-een-leefbare-wereld-8/
LOCATION:Kolonel Dusartplein\, Kolonel Dusartplein\, Hasselt\, 3500
ATTACH;FMTTYPE=image/jpeg:https://www.socialekalender.be/wp-content/uploads/2022/02/kringlopen-12.21-1.jpg
END:VEVENT
END:VCALENDAR