BEGIN:VCALENDAR
VERSION:2.0
PRODID:-//Sociale Kalender - ECPv6.2.9//NONSGML v1.0//EN
CALSCALE:GREGORIAN
METHOD:PUBLISH
X-WR-CALNAME:Sociale Kalender
X-ORIGINAL-URL:https://www.socialekalender.be
X-WR-CALDESC:Evenementen voor Sociale Kalender
REFRESH-INTERVAL;VALUE=DURATION:PT1H
X-Robots-Tag:noindex
X-PUBLISHED-TTL:PT1H
BEGIN:VTIMEZONE
TZID:Europe/Brussels
BEGIN:DAYLIGHT
TZOFFSETFROM:+0100
TZOFFSETTO:+0200
TZNAME:CEST
DTSTART:20220327T010000
END:DAYLIGHT
BEGIN:STANDARD
TZOFFSETFROM:+0200
TZOFFSETTO:+0100
TZNAME:CET
DTSTART:20221030T010000
END:STANDARD
END:VTIMEZONE
BEGIN:VEVENT
DTSTART;TZID=Europe/Brussels:20220420T170000
DTEND;TZID=Europe/Brussels:20220420T170000
DTSTAMP:20260420T220937
CREATED:20220406T160844Z
LAST-MODIFIED:20220406T160844Z
UID:6889-1650474000-1650474000@www.socialekalender.be
SUMMARY:Werkgroep Armoede en Ecologisch Leven
DESCRIPTION:Het ecologisch bewustzijn groeit\, maar voor mensen in armoede is het niet zo evident om deel te nemen aan een bewuste levensstijl. Zij hebben wel een kleinere ecologische voetafdruk omwille van hun beperkt budget. Zo kopen ze vaker tweedehandsspullen en verplaatsen ze zich minder vervuilend. Maar in het algemeen komen ze geregeld drempels tegen die het moeilijk maken om te participeren aan een ecologische leefwijze. Ze wonen vaak in huizen die niet energiezuinig zijn. Ze kopen veel huiswaar in plastiek\, omdat dit goedkoper is. Ze eten geregeld junkfood\, omdat dit betaalbaar is. Ze vinden de weg niet naar milieu- en natuurverenigingen. De recyclageparken zijn te duur en moeilijk bereikbaar. \nHet gaat om een serieuze drempel\, en de Universiteit voor het Maatschappelijk Belang wil er uitdrukkelijk bij stilstaan. Daarom komen we geregeld samen met een overlegplatform van partners uit de ecologische en de armoedeorganisaties om gezamenlijk na te denken\, om samen een open dialoog op te zetten. Ook mensen uit de vakbonden en de nutsbedrijven\, het beleid\, … zitten mee aan tafel. De veelvuldige respons maakt duidelijk dat het onderwerp leeft. Op 20 april nemen we de draad weer op\, na de lange coronaperikelen. Nieuwe mensen zijn zeker welkom. We komen samen in Winterslag\, in ’t Fabriek\, Evence Coppéelaan 118 (even voorbij het mijngebouw rechts\, achter de fietswinkel).
URL:https://www.socialekalender.be/evenement/werkgroep-armoede-en-ecologisch-leven-3/
LOCATION:’t Fabriek\, Evence Copéelaan 118\, Winterslag - Genk\, Limburg\, 3600\, België
ATTACH;FMTTYPE=image/jpeg:https://www.socialekalender.be/wp-content/uploads/2021/10/Werkgroep-Armoede-en-Ecologisch-Leven-1-scaled.jpg
ORGANIZER;CN="Universiteit voor het Maatschappelijk Belang":MAILTO:felixbergers@hotmail.com
END:VEVENT
END:VCALENDAR