BEGIN:VCALENDAR
VERSION:2.0
PRODID:-//Sociale Kalender - ECPv6.2.9//NONSGML v1.0//EN
CALSCALE:GREGORIAN
METHOD:PUBLISH
X-WR-CALNAME:Sociale Kalender
X-ORIGINAL-URL:https://www.socialekalender.be
X-WR-CALDESC:Evenementen voor Sociale Kalender
REFRESH-INTERVAL;VALUE=DURATION:PT1H
X-Robots-Tag:noindex
X-PUBLISHED-TTL:PT1H
BEGIN:VTIMEZONE
TZID:Europe/Brussels
BEGIN:DAYLIGHT
TZOFFSETFROM:+0100
TZOFFSETTO:+0200
TZNAME:CEST
DTSTART:20220327T010000
END:DAYLIGHT
BEGIN:STANDARD
TZOFFSETFROM:+0200
TZOFFSETTO:+0100
TZNAME:CET
DTSTART:20221030T010000
END:STANDARD
END:VTIMEZONE
BEGIN:VEVENT
DTSTART;TZID=Europe/Brussels:20220421T193000
DTEND;TZID=Europe/Brussels:20220421T210000
DTSTAMP:20260420T220936
CREATED:20220410T161838Z
LAST-MODIFIED:20220410T161838Z
UID:6918-1650569400-1650574800@www.socialekalender.be
SUMMARY:Degrowth: een economie los van groei
DESCRIPTION:Kunnen we een transitie maken naar een ‘economie van het genoeg’ die iedereen toelaat om een goed leven te leiden binnen planetaire grenzen? In een panelgesprek op 21 april legt Jan Mertens (foto)\, voorzitter van denktank Oikos en columnist bij tijdschrift MO*\, ons uit waarom economische groei ons naar de afgrond leidt. En waarom nieuwe en hippe jasjes als ‘groene groei’ of ‘Green Deal’ alleen ons niet kunnen redden. Onderzoeker Soumaya Majdoub (VUB) gaat nog een stap verder: met haar ‘ecofeministische’ benadering wijst ze de bestaande machtsverhoudingen en onze bijhorende overconsumptie en -productie aan als kernprobleem van onze tijd. Maar kunnen we wel zonder groei of wacht ons dan een sociaal bloedbad? Prof economie Johan Eyckmans analyseert onze groeiverslaving en schat de kansen en gevaren van ontgroei. Samen met jou bespreken Soumaya\, Jan en Johan wat we nodig hebben om onze welzijn op peil te houden en zelfs te verbeteren in een wereld waarin groei niet langer een fetisj is. Wat betekent dat alles voor ons als geëngageerde burger en wat kunnen wij doen? Meer informatie en inschrijvingsformulieren via https://avansa-oostbrabant.be/activiteiten/belgie-zonder-groei-crisis-of-kans
URL:https://www.socialekalender.be/evenement/degrowth-een-economie-los-van-groei/
LOCATION:ONLINE of Bibliotheek Twee Bronnen
ATTACH;FMTTYPE=image/jpeg:https://www.socialekalender.be/wp-content/uploads/2022/04/Jan-Mertens-1.jpg
END:VEVENT
END:VCALENDAR