BEGIN:VCALENDAR
VERSION:2.0
PRODID:-//Sociale Kalender - ECPv6.2.9//NONSGML v1.0//EN
CALSCALE:GREGORIAN
METHOD:PUBLISH
X-WR-CALNAME:Sociale Kalender
X-ORIGINAL-URL:https://www.socialekalender.be
X-WR-CALDESC:Evenementen voor Sociale Kalender
REFRESH-INTERVAL;VALUE=DURATION:PT1H
X-Robots-Tag:noindex
X-PUBLISHED-TTL:PT1H
BEGIN:VTIMEZONE
TZID:Europe/Brussels
BEGIN:DAYLIGHT
TZOFFSETFROM:+0100
TZOFFSETTO:+0200
TZNAME:CEST
DTSTART:20220327T010000
END:DAYLIGHT
BEGIN:STANDARD
TZOFFSETFROM:+0200
TZOFFSETTO:+0100
TZNAME:CET
DTSTART:20221030T010000
END:STANDARD
END:VTIMEZONE
BEGIN:VEVENT
DTSTART;TZID=Europe/Brussels:20220423T173000
DTEND;TZID=Europe/Brussels:20220423T200000
DTSTAMP:20260420T220937
CREATED:20220323T105938Z
LAST-MODIFIED:20220323T105938Z
UID:6822-1650735000-1650744000@www.socialekalender.be
SUMMARY:Pastadag voor bossen Kaulille
DESCRIPTION:BOS+ is in beroep gegaan tegen de beslissing van de gemeente Bocholt om de plannen voor de zandontginning in Kaulille goed te keuren. In totaal worden minstens 80 hectare bestaande bossen op korte termijn rechtstreeks bedreigd\, hoofdzakelijk om de ontginning van zand (en grind als bijproduct) mogelijk te maken. Op langere termijn zou het zelfs om 100 hectare kunnen gaan. Wij organiseren een spaghettidag om die juridische procedure financieel te ondersteunen. Wij hopen zo ook op een plezante manier sterkere banden te smeden tussen zij die begaan zijn met deze bossen. Deze pastadag gaat door op zaterdag 23 april in Hasselt in OC Heilig Kruis (Kruisherenlaan 29\, 3500 Hasselt). We zullen uitsluitend met plantaardige producten werken. Inschrijven is vereist en kan via https://forms.gle/o4MG7ZaYauU9nZDe6. Na de betaling is de inschrijving voltooid. 
URL:https://www.socialekalender.be/evenement/pastadag-voor-bossen-kaulille/
LOCATION:OC Heilig Kruis\, Kruisherenlaan 29\, Hasselt\, Limburg\, 3500\, België
ATTACH;FMTTYPE=image/jpeg:https://www.socialekalender.be/wp-content/uploads/2022/03/kaulille-bossen.jpg
ORGANIZER;CN="Extinction Rebellion Limburg":MAILTO:reynders.pierre@gmail.com
END:VEVENT
END:VCALENDAR